BEGIN:VCALENDAR
VERSION:2.0
PRODID:-//ChamberMaster//Event Calendar 2.0//EN
METHOD:PUBLISH
X-PUBLISHED-TTL:P3D
REFRESH-INTERVAL:P3D
CALSCALE:GREGORIAN
BEGIN:VEVENT
DTSTART:20230524T010000Z
DTEND:20230524T035500Z
X-MICROSOFT-CDO-ALLDAYEVENT:FALSE
SUMMARY:Karaoke at the Town Club
DESCRIPTION:Town Club and Watz Dis Entertainment present\n\nTuesday Nights Karaoke with Kevin Lee AKA "DJ Hashtag"
X-ALT-DESC;FMTTYPE=text/html:Town Club and Watz Dis Entertainment present<br />\nTuesday Nights Karaoke with Kevin Lee AKA &quot\;DJ Hashtag&quot\;<br />\n&nbsp\;
LOCATION:133 River Street Elk Rapids
UID:e.2409.37530
SEQUENCE:3
DTSTAMP:20260420T035436Z
URL:https://business.elkrapidschamber.org/events/details/karaoke-at-the-town-club-05-23-2023-37530
END:VEVENT

END:VCALENDAR
