BEGIN:VCALENDAR
VERSION:2.0
PRODID:-//ChamberMaster//Event Calendar 2.0//EN
METHOD:PUBLISH
X-PUBLISHED-TTL:P3D
REFRESH-INTERVAL:P3D
CALSCALE:GREGORIAN
BEGIN:VEVENT
DTSTART:20230905T220000Z
DTEND:20230905T230000Z
X-MICROSOFT-CDO-ALLDAYEVENT:FALSE
SUMMARY:Joint Meeting of ER Villge Council & Planning Commission
DESCRIPTION:
X-ALT-DESC;FMTTYPE=text/html:
LOCATION:
UID:e.2409.38853
SEQUENCE:3
DTSTAMP:20260419T222742Z
URL:https://business.elkrapidschamber.org/events/details/joint-meeting-of-er-villge-council-planning-commission-38853
END:VEVENT

END:VCALENDAR
