BEGIN:VCALENDAR
VERSION:2.0
PRODID:-//ChamberMaster//Event Calendar 2.0//EN
METHOD:PUBLISH
X-PUBLISHED-TTL:P3D
REFRESH-INTERVAL:P3D
CALSCALE:GREGORIAN
BEGIN:VEVENT
DTSTART:20220922T210000Z
DTEND:20220922T230000Z
X-MICROSOFT-CDO-ALLDAYEVENT:FALSE
SUMMARY:ESLA It's a Shore Thing Meeting
DESCRIPTION:Join us for the last "Shore Thing" of the summer\, Thursday Sept 22. at 5 pm at the Elk Rapids Lower Harbor Pavilion. Hans Van Sumeren\, director of the Great Lakes Water Studies Institute at Northwestern Michigan College\, and his students will present findings from summer research which used sophisticated sonar technology to get our best understanding yet what's happening in Elk Lake's deeper waters.
X-ALT-DESC;FMTTYPE=text/html:<span style="color: rgb(5\, 5\, 5)\; font-family: &quot\;Segoe UI Historic&quot\;\, &quot\;Segoe UI&quot\;\, Helvetica\, Arial\, sans-serif\; font-size: 15px\; white-space: pre-wrap\; background-color: rgb(255\, 255\, 255)\;">Join us for the last &quot\;Shore Thing&quot\; of the summer\, Thursday Sept 22. at 5 pm at the Elk Rapids Lower Harbor Pavilion. Hans Van Sumeren\, director of the Great Lakes Water Studies Institute at Northwestern Michigan College\, and his students will present findings from summer research which used sophisticated sonar technology to get our best understanding yet what&#39\;s happening in Elk Lake&#39\;s deeper waters.</span>\n<table border="0" cellpadding="0" cellspacing="0" role="presentation" style="border-collapse: collapse\; color: rgb(0\, 0\, 0)\; font-family: Arial\, Helvetica\, sans-serif\; font-size: 12px\;" width="100%">\n	<tbody>\n		<tr>\n			<td class="yiv7682729926mceSpacing-24" id="yiv7682729926mceColumnContainer" style="outline: none\; padding: 12px 0px\;" valign="top">\n			<table align="center" border="0" cellpadding="0" cellspacing="0" role="presentation" style="border-collapse: collapse\;" width="100%">\n				<tbody>\n					<tr>\n						<td class="yiv7682729926mceSection" style="outline: none\; background-position: center center\; background-repeat: no-repeat\; background-size: cover\;" valign="top">\n						<table border="0" cellpadding="0" cellspacing="24" role="presentation" style="border-collapse: collapse\; table-layout: fixed\;" width="100%">\n							<tbody>\n								<tr>\n									<td class="yiv7682729926mceSpacing-24" id="yiv7682729926mceColumnContainer" style="outline: none\; padding: 12px 0px\;" valign="top">\n									<table align="center" border="0" cellpadding="0" cellspacing="0" role="presentation" style="border-collapse: collapse\;" width="100%">\n										<tbody>\n											<tr>\n												<td class="yiv7682729926mceSection" style="outline: none\; background-position: center center\; background-repeat: no-repeat\; background-size: cover\;" valign="top">\n												<table border="0" cellpadding="0" cellspacing="24" role="presentation" style="border-collapse: collapse\; table-layout: fixed\;" width="100%">\n													<colgroup>\n														<col span="1" />\n														<col span="1" />\n														<col span="1" />\n														<col span="1" />\n														<col span="1" />\n														<col span="1" />\n														<col span="1" />\n														<col span="1" />\n														<col span="1" />\n														<col span="1" />\n														<col span="1" />\n														<col span="1" />\n													</colgroup>\n													<tbody>\n														<tr>\n															<td class="yiv7682729926mceColumn" colspan="12" style="outline: none\; background-position: center center\; background-repeat: no-repeat\; background-size: cover\;" valign="top" width="100%">\n															<table border="0" cellpadding="0" cellspacing="0" role="presentation" style="border-collapse: collapse\;" width="100%">\n																<tbody>\n																	<tr>\n																	</tr>\n																</tbody>\n															</table>\n															</td>\n														</tr>\n													</tbody>\n												</table>\n												</td>\n											</tr>\n										</tbody>\n									</table>\n									</td>\n								</tr>\n							</tbody>\n						</table>\n						</td>\n					</tr>\n				</tbody>\n			</table>\n			</td>\n		</tr>\n	</tbody>\n</table>\n<br />\n<font size="2">&nbsp\;</font>
LOCATION:
UID:e.2409.29542
SEQUENCE:3
DTSTAMP:20260420T144130Z
URL:https://business.elkrapidschamber.org/events/details/it-s-a-shore-thing-meeting-09-23-2022-29542
END:VEVENT

END:VCALENDAR
