BEGIN:VCALENDAR
VERSION:2.0
PRODID:-//ChamberMaster//Event Calendar 2.0//EN
METHOD:PUBLISH
X-PUBLISHED-TTL:P3D
REFRESH-INTERVAL:P3D
CALSCALE:GREGORIAN
BEGIN:VEVENT
DTSTART:20230923T123000Z
DTEND:20230923T160000Z
X-MICROSOFT-CDO-ALLDAYEVENT:FALSE
SUMMARY:Intro to Blacksmithing at Samels Farm
DESCRIPTION:Join Ted Ewald for hands-on instruction in the art of bending black iron.  The class costs $40.00\, and you will go home with an example of blacksmithing.  Come and learn a great skill.\n\nCall Ted to register 231-313-2032
X-ALT-DESC;FMTTYPE=text/html:<span style="color: rgb(98\, 98\, 98)\; font-family: &quot\;Droid Serif&quot\;\; font-size: 19px\; word-spacing: 0.19px\; background-color: rgb(255\, 255\, 255)\;">Join Ted Ewald for hands-on instruction in the art of bending black iron.&nbsp\; The class costs $40.00\, and you will go home with an example of blacksmithing.&nbsp\; Come and learn a great skill.</span><br style="color: rgb(98\, 98\, 98)\; font-family: &quot\;Droid Serif&quot\;\; font-size: 19px\; word-spacing: 0.19px\; background-color: rgb(255\, 255\, 255)\;" />\n<strong style="color: rgb(98\, 98\, 98)\; font-family: &quot\;Droid Serif&quot\;\; font-size: 19px\; word-spacing: 0.19px\; background-color: rgb(255\, 255\, 255)\;">Call Ted to register 231-313-2032</strong>
LOCATION:8298 Skegemog Point Rd\, Williamsburg\, MI 49690
UID:e.2409.36124
SEQUENCE:3
DTSTAMP:20260419T222041Z
URL:https://business.elkrapidschamber.org/events/details/intro-to-blacksmithing-at-samels-farm-36124
END:VEVENT

END:VCALENDAR
