BEGIN:VCALENDAR
VERSION:2.0
PRODID:-//ChamberMaster//Event Calendar 2.0//EN
METHOD:PUBLISH
X-PUBLISHED-TTL:P3D
REFRESH-INTERVAL:P3D
CALSCALE:GREGORIAN
BEGIN:VEVENT
DTSTART:20190812T143000Z
DTEND:20190812T163000Z
X-MICROSOFT-CDO-ALLDAYEVENT:FALSE
SUMMARY:Intermediate Knitting with Kate: Hat and Socks Edition
DESCRIPTION:Lesson 1: Knit a Hat\n\nTake a series of 4 FREE intermediate level classes learning to knit a hat. Beginning Monday\, August 12th and continuing on the following 3 Mondays at the ERDL Meeting Room.\n\nOR\n\nTake a series of 4 FREE intermediate level classes learning to knit a hat. Beginning Tuesday\, August 13th and continuing on the following 3 Tuesdays at the ERDL Meeting Room.\n\nSpace is limited. Call the Library to register @ 231264-9979
X-ALT-DESC;FMTTYPE=text/html:Lesson 1: Knit a Hat<br />\nTake a series of 4 FREE intermediate level classes learning to knit a hat. Beginning Monday\, August 12th and continuing on the following 3 Mondays at the ERDL Meeting Room.<br />\nOR<br />\n<span style="color: rgb(51\, 51\, 51)\; font-family: sans-serif\, Arial\, Verdana\, &quot\;Trebuchet MS&quot\;\; font-size: 13px\; background-color: rgb(255\, 255\, 255)\;">Take a series of 4 FREE intermediate level classes learning to knit a hat. Beginning Tuesday\, August 13th and continuing on the following 3 Tuesdays at the ERDL Meeting Room.<br />\nSpace is limited. Call the Library to register @ 231264-9979</span>
LOCATION:Elk Rapids District Library 300 Isle of Pines Elk Rapids
UID:e.2409.20627
SEQUENCE:3
DTSTAMP:20260425T113427Z
URL:https://business.elkrapidschamber.org/events/details/intermediate-knitting-with-kate-hat-and-socks-edition-20627
END:VEVENT

END:VCALENDAR
