BEGIN:VCALENDAR
VERSION:2.0
PRODID:-//ChamberMaster//Event Calendar 2.0//EN
METHOD:PUBLISH
X-PUBLISHED-TTL:P3D
REFRESH-INTERVAL:P3D
CALSCALE:GREGORIAN
BEGIN:VEVENT
DTSTART:20231108T210000Z
DTEND:20231109T000000Z
X-MICROSOFT-CDO-ALLDAYEVENT:FALSE
SUMMARY:Industry Appreciation-Open House at Nowak Cabinets
DESCRIPTION:Join us for an Open House Event in our design showroom.\n\nLive demonstrations of the invisible induction cooktop.
X-ALT-DESC;FMTTYPE=text/html:Join us for an Open House Event in our design showroom.<br />\nLive demonstrations of the invisible induction cooktop.
LOCATION:Nowak Cabinets 11744 US 31 South Williamsburg\, MI 49690
UID:e.2409.39682
SEQUENCE:3
DTSTAMP:20260419T193533Z
URL:https://business.elkrapidschamber.org/events/details/industry-appreciation-open-house-at-nowak-cabinets-39682
END:VEVENT

END:VCALENDAR
