BEGIN:VCALENDAR
VERSION:2.0
PRODID:-//ChamberMaster//Event Calendar 2.0//EN
METHOD:PUBLISH
X-PUBLISHED-TTL:P3D
REFRESH-INTERVAL:P3D
CALSCALE:GREGORIAN
BEGIN:VEVENT
DTSTART:20241001T130000Z
DTEND:20241001T160000Z
X-MICROSOFT-CDO-ALLDAYEVENT:FALSE
SUMMARY:Imagination Station for Kids
DESCRIPTION:Let your creativity run wild at the Imagination station where kids will create fun crafts using a variety of materials.  For kids ages 2-16\n\nCLOSED OCT. 15 & 29
X-ALT-DESC;FMTTYPE=text/html:Let your creativity run wild at the Imagination station where kids will create fun crafts using a variety of materials.&nbsp\; For kids ages 2-16<br />\n<span style="color:#FF0000\;">CLOSED OCT. 15 &amp\; 29</span><br />\n&nbsp\;
LOCATION:Art & Connection 965 Green St. Elk Rapids
UID:e.2409.45433
SEQUENCE:3
DTSTAMP:20260424T201020Z
URL:https://business.elkrapidschamber.org/events/details/imagination-station-for-kids-45433
END:VEVENT

END:VCALENDAR
