BEGIN:VCALENDAR
VERSION:2.0
PRODID:-//ChamberMaster//Event Calendar 2.0//EN
METHOD:PUBLISH
X-PUBLISHED-TTL:P3D
REFRESH-INTERVAL:P3D
CALSCALE:GREGORIAN
BEGIN:VEVENT
DTSTART:20190614T200000Z
DTEND:20190614T223000Z
X-MICROSOFT-CDO-ALLDAYEVENT:FALSE
SUMMARY:Ice Cream Social
DESCRIPTION:Antrim County Democrats Annual Ice Cream Social.  Join them to celebrate our flag and meet local candidates.
X-ALT-DESC;FMTTYPE=text/html:Antrim County Democrats Annual Ice Cream Social.&nbsp\; Join them to celebrate our flag and meet local candidates.
LOCATION:Rotary Park
UID:e.2409.19997
SEQUENCE:3
DTSTAMP:20260424T201009Z
URL:https://business.elkrapidschamber.org/events/details/ice-cream-social-19997
END:VEVENT

END:VCALENDAR
