BEGIN:VCALENDAR
VERSION:2.0
PRODID:-//ChamberMaster//Event Calendar 2.0//EN
METHOD:PUBLISH
X-PUBLISHED-TTL:P3D
REFRESH-INTERVAL:P3D
CALSCALE:GREGORIAN
BEGIN:VEVENT
DTSTART:20210403T110000Z
DTEND:20210403T220000Z
X-MICROSOFT-CDO-ALLDAYEVENT:FALSE
SUMMARY:Hoppin' Down the Bunny Trail ~ Downtown Elk Rapids
DESCRIPTION:Hop on down to River Street in Downtown Elk Rapids!\n\n\n\nStop into participating shops to find seasonal items or complete tasks to be entered to win a "Hunny Bunny" Gift Basket courtesy of participating stores.  Pick up your maps at anyone of the participating stores to begin hopping down the trail!\n\n\n\nThe Easter Bunny will be hopping by River St\, From 12-2.  Come\, bring the kids and get your picture taken.\n\n\n\nHosted by the Downtown Elk Rapids Association.
X-ALT-DESC;FMTTYPE=text/html:<span style="font-size:20px\;"><span style="color:#000000\;">Hop on down to River Street in Downtown Elk Rapids!<br />\n<br />\nStop into participating shops to find seasonal items or complete tasks to be entered to win a &quot\;Hunny Bunny&quot\; Gift Basket courtesy of participating stores.&nbsp\; Pick up your maps at anyone of the participating stores to begin hopping down the trail!<br />\n<br />\nThe Easter Bunny will be hopping by River St\, From 12-2.&nbsp\; Come\, bring the kids and get your picture taken.<br />\n<br />\nHosted by the Downtown Elk Rapids Association.</span></span>
LOCATION:Downtown Elk Rapids ~ River Street
UID:e.2409.25972
SEQUENCE:3
DTSTAMP:20260421T175816Z
URL:https://business.elkrapidschamber.org/events/details/hoppin-down-the-bunny-trail-downtown-elk-rapids-25972
END:VEVENT

END:VCALENDAR
