BEGIN:VCALENDAR
VERSION:2.0
PRODID:-//ChamberMaster//Event Calendar 2.0//EN
METHOD:PUBLISH
X-PUBLISHED-TTL:P3D
REFRESH-INTERVAL:P3D
CALSCALE:GREGORIAN
BEGIN:VEVENT
DTSTART:20190710T213000Z
DTEND:20190711T013000Z
X-MICROSOFT-CDO-ALLDAYEVENT:FALSE
SUMMARY:Homebuyer Education
DESCRIPTION:Please join Carol Cenci\, Housing Coach along with Jennifer Hastings of Key Realty and Christine McMaster of Huntington Bank\, to learn about owning a home while enjoyibng a slice of cherry pie!  Jennifer Hastings will be providing a light dinner and Christine McMaster will be underwriting a portion of the workshop.
X-ALT-DESC;FMTTYPE=text/html:Please join Carol Cenci\, Housing Coach along with Jennifer Hastings of Key Realty and Christine McMaster of Huntington Bank\, to learn about owning a home while enjoyibng a slice of cherry pie!&nbsp\; Jennifer Hastings will be providing a light dinner and Christine McMaster will be underwriting a portion of the workshop.
LOCATION:3963 Three Mile Rd. Traverse City
UID:e.2409.20211
SEQUENCE:3
DTSTAMP:20260425T011345Z
URL:https://business.elkrapidschamber.org/events/details/homebuyer-education-20211
END:VEVENT

END:VCALENDAR
