BEGIN:VCALENDAR
VERSION:2.0
PRODID:-//ChamberMaster//Event Calendar 2.0//EN
METHOD:PUBLISH
X-PUBLISHED-TTL:P3D
REFRESH-INTERVAL:P3D
CALSCALE:GREGORIAN
BEGIN:VEVENT
DTSTART:20200118T140000Z
DTEND:20200118T220000Z
X-MICROSOFT-CDO-ALLDAYEVENT:FALSE
SUMMARY:Home Expo 2020
DESCRIPTION:Each year the Home EXPO showcases new building trends\, products\, ideas\, and inspiration! Whether you are a homeowner looking to buy or if you're planning to build a new home\, this family-friendly event is for you!
X-ALT-DESC;FMTTYPE=text/html:<span style="color: rgb(29\, 33\, 41)\; font-family: Helvetica\, Arial\, sans-serif\; font-size: 14px\; font-style: normal\; font-variant-ligatures: normal\; font-variant-caps: normal\; font-weight: 400\; letter-spacing: normal\; orphans: 2\; text-align: start\; text-indent: 0px\; text-transform: none\; white-space: pre-wrap\; widows: 2\; word-spacing: 0px\; -webkit-text-stroke-width: 0px\; background-color: rgb(255\, 255\, 255)\; text-decoration-style: initial\; text-decoration-color: initial\; display: inline !important\; float: none\;">Each year the Home EXPO showcases new building trends\, products\, ideas\, and inspiration! Whether you are a homeowner looking to buy or if you&#39\;re planning to build a new home\, this family-friendly event is for you!</span>
LOCATION:Grand Traverse Resort
UID:e.2409.22752
SEQUENCE:3
DTSTAMP:20260421T044524Z
URL:https://business.elkrapidschamber.org/events/details/home-expo-2020-22752
END:VEVENT

END:VCALENDAR
