BEGIN:VCALENDAR
VERSION:2.0
PRODID:-//ChamberMaster//Event Calendar 2.0//EN
METHOD:PUBLISH
X-PUBLISHED-TTL:P3D
REFRESH-INTERVAL:P3D
CALSCALE:GREGORIAN
BEGIN:VEVENT
DTSTART:20191207T180000Z
DTEND:20191207T200000Z
X-MICROSOFT-CDO-ALLDAYEVENT:FALSE
SUMMARY:Holiday Wreaths and Centerpieces @ Grass River Natural Area
DESCRIPTION:Tis the Season for the smell of balsam\, the bright red of berries\, and the drumbeat of woodpeckers. Take home a bit of Grass River Natural Area by making your own centerpieces using candles\, cedar\, bark\, berries\, and other objects you find on the trail. Also create works of grapevine wreath art. All supplies are provided. Best for adults and families with older children. More information at grassriver.org. Grass River Natural Area is located at 6500 Alden Highway\, Bellaire MI.
X-ALT-DESC;FMTTYPE=text/html:<span style="color: rgb(29\, 34\, 40)\; font-family: &quot\;Helvetica Neue&quot\;\, Helvetica\, Arial\, sans-serif\; font-size: 12pt\;">Tis the Season for the smell of balsam\, the bright red of berries\, and the drumbeat of woodpeckers. Take home a bit of Grass River Natural Area by making your own centerpieces using candles\, cedar\, bark\, berries\, and other objects you find on the trail. Also create works of grapevine wreath art. All supplies are provided. Best for adults and families with older children.&nbsp\;</span><span style="color: rgb(29\, 34\, 40)\; font-family: &quot\;Helvetica Neue&quot\;\, Helvetica\, Arial\, sans-serif\; font-size: 12pt\;">More information at grassriver.org. Grass River Natural Area is located at 6500 Alden Highway\, Bellaire MI.</span>
LOCATION:Grass River Natural Area
UID:e.2409.22067
SEQUENCE:3
DTSTAMP:20260419T143040Z
URL:https://business.elkrapidschamber.org/events/details/holiday-wreaths-and-centerpieces-grass-river-natural-area-22067
END:VEVENT

END:VCALENDAR
