BEGIN:VCALENDAR
VERSION:2.0
PRODID:-//ChamberMaster//Event Calendar 2.0//EN
METHOD:PUBLISH
X-PUBLISHED-TTL:P3D
REFRESH-INTERVAL:P3D
CALSCALE:GREGORIAN
BEGIN:VEVENT
DTSTART:20191214T000000Z
DTEND:20191214T013000Z
X-MICROSOFT-CDO-ALLDAYEVENT:FALSE
SUMMARY:Holiday Sing-A-Long w/Peter Bergin
DESCRIPTION:Michigan-based ragtime artist\, Peter Bergin\, has entertained audiences for over two decades. The Music House welcomes back pianist and singer\, Peter Bergin on Dec. 13th at 7 pm for a very special holiday Sing-A Long concert! Not only is he a cherished member of our musical family but he has become one of our audience's favorite performers. Bergin will bring his talent to the holidays\, playing classics to sing-a long with.
X-ALT-DESC;FMTTYPE=text/html:<span style="color: rgb(29\, 33\, 41)\; font-family: Helvetica\, Arial\, sans-serif\; font-size: 14px\; white-space: pre-wrap\; background-color: rgb(255\, 255\, 255)\;">Michigan-based ragtime artist\, Peter Bergin\, has entertained audiences for over two decades. The Music House welcomes back pianist and singer\, Peter Bergin on Dec. 13th at 7 pm for a very special holiday Sing-A Long concert! Not only is he a cherished member of our musical family but he has become one of our audience&rsquo\;s favorite performers. Bergin will bring his talent to the holidays\, playing classics to sing-a long with. </span>
LOCATION:Music House Museum
UID:e.2409.22423
SEQUENCE:3
DTSTAMP:20260419T153120Z
URL:https://business.elkrapidschamber.org/events/details/holiday-sing-a-long-w-peter-bergin-22423
END:VEVENT

END:VCALENDAR
