BEGIN:VCALENDAR
VERSION:2.0
PRODID:-//ChamberMaster//Event Calendar 2.0//EN
METHOD:PUBLISH
X-PUBLISHED-TTL:P3D
REFRESH-INTERVAL:P3D
CALSCALE:GREGORIAN
BEGIN:VEVENT
DTSTART:20231202T160000Z
DTEND:20231202T180000Z
X-MICROSOFT-CDO-ALLDAYEVENT:FALSE
SUMMARY:Holiday Greens Workshops
DESCRIPTION:Holiday Greens Workshops:\n\n \n\nDecember 1st\, 2nd\, 8th and 9th (Friday\, Saturday)\n\n \n\nClass times are 11am. Create your own beautiful wreath ($55)\, porch pot ($55) in this fun workshop. Wreath class fee includes wreath form\, greens\, and natural bits. Porch pot class includes a black pot with soil\, greens\, and red twigs.  Other embellishment items available for purchase. Classes are held in our greenhouse\, so we recommend dressing in layers. Please bring your own garden gloves and pruners. We will have some for purchase if you need them. \n\n \n\nLocation: 1126 Carver St. Traverse City\n\nPlease call to register as classes tend to fill up quickly. 231-941-1808\n\n \n\n \n\nThese workshops are at our Traverse City Location.
X-ALT-DESC;FMTTYPE=text/html:<p background-color:="" font-size:="" open="" style="box-sizing: border-box\; margin: 0px\; padding: 0px\; color: rgb(255\, 255\, 255)\; font-family: " text-align:=""><span style="color:#FF0000\;"><span font-weight:="" new="" style="box-sizing: border-box\; font-size: 35px\; font-family: " times="">Holiday Greens Workshops:</span></span></p>\n\n<p background-color:="" font-size:="" open="" style="box-sizing: border-box\; margin: 0px\; padding: 0px\; color: rgb(255\, 255\, 255)\; font-family: " text-align:="">&nbsp\;</p>\n\n<p background-color:="" font-size:="" open="" style="box-sizing: border-box\; margin: 0px\; padding: 0px\; color: rgb(255\, 255\, 255)\; font-family: " text-align:=""><span style="color:#FF0000\;"><span new="" style="box-sizing: border-box\; font-size: 17px\; font-family: " times="">December 1st\, 2nd\, 8th and 9th (Friday\, Saturday)</span></span></p>\n\n<p background-color:="" font-size:="" open="" style="box-sizing: border-box\; margin: 0px\; padding: 0px\; color: rgb(255\, 255\, 255)\; font-family: " text-align:="">&nbsp\;</p>\n\n<p align="justify" background-color:="" font-size:="" open="" style="box-sizing: border-box\; margin: 0px\; padding: 0px\; color: rgb(255\, 255\, 255)\; font-family: " text-align:=""><span style="color:#FF0000\;"><span new="" style="box-sizing: border-box\; font-size: 17px\; font-family: " times="">Class times are 11am. Create your own beautiful wreath ($55)\, porch pot ($55) in this fun workshop.&nbsp\;Wreath class fee includes wreath form\, greens\, and natural bits. Porch pot class includes a black pot with soil\, greens\, and red twigs.&nbsp\;&nbsp\;Other embellishment&nbsp\;items available for purchase.&nbsp\;Classes are held in our greenhouse\, so we recommend dressing in layers. Please bring your own garden gloves and pruners. We will have some for purchase if you need them.&nbsp\;</span></span></p>\n\n<p align="justify" background-color:="" font-size:="" open="" style="box-sizing: border-box\; margin: 0px\; padding: 0px\; color: rgb(255\, 255\, 255)\; font-family: " text-align:="">&nbsp\;</p>\n\n<p align="justify" background-color:="" font-size:="" open="" style="box-sizing: border-box\; margin: 0px\; padding: 0px\; color: rgb(255\, 255\, 255)\; font-family: " text-align:=""><span style="color:#FF0000\;"><span new="" style="box-sizing: border-box\; font-size: 17px\; font-family: " times="">Location: 1126 Carver St. Traverse City</span></span></p>\n\n<p align="justify" background-color:="" font-size:="" open="" style="box-sizing: border-box\; margin: 0px\; padding: 0px\; color: rgb(255\, 255\, 255)\; font-family: " text-align:=""><span style="color:#FF0000\;"><span new="" style="box-sizing: border-box\; font-size: 17px\; font-family: " times="">Please call to register as classes tend to fill up quickly. 231-941-1808</span></span></p>\n\n<p align="justify" background-color:="" font-size:="" open="" style="box-sizing: border-box\; margin: 0px\; padding: 0px\; color: rgb(255\, 255\, 255)\; font-family: " text-align:="">&nbsp\;</p>\n\n<p align="justify" background-color:="" font-size:="" open="" style="box-sizing: border-box\; margin: 0px\; padding: 0px\; color: rgb(255\, 255\, 255)\; font-family: " text-align:="">&nbsp\;</p>\n\n<p background-color:="" font-size:="" open="" style="box-sizing: border-box\; margin: 0px\; padding: 0px\; color: rgb(255\, 255\, 255)\; font-family: " text-align:=""><span style="color:#FF0000\;">These workshops are at our Traverse City Location.</span></p>\n
LOCATION:
UID:e.2409.39347
SEQUENCE:3
DTSTAMP:20260419T175912Z
URL:https://business.elkrapidschamber.org/events/details/holiday-greens-workshops-12-02-2023-39347
END:VEVENT

END:VCALENDAR
