BEGIN:VCALENDAR
VERSION:2.0
PRODID:-//ChamberMaster//Event Calendar 2.0//EN
METHOD:PUBLISH
X-PUBLISHED-TTL:P3D
REFRESH-INTERVAL:P3D
CALSCALE:GREGORIAN
BEGIN:VEVENT
DTSTART:20191216T140000Z
DTEND:20191216T220000Z
X-MICROSOFT-CDO-ALLDAYEVENT:FALSE
SUMMARY:Holiday Gift Wrapping Station
DESCRIPTION:Take some of the work out of the holidays and come bring all of your shopping treasures to Century 21 Northland Elk Rapids.  We will gift wrap your presents at no charge.  We are taking a free will donation to support the Meals on Wheels Program.
X-ALT-DESC;FMTTYPE=text/html:Take some of the work out of the holidays and come bring all of your shopping treasures to Century 21 Northland Elk Rapids.&nbsp\; We will gift wrap your presents at no charge.&nbsp\; We are taking a free will donation to support the Meals on Wheels Program.&nbsp\;
LOCATION:Century 21 Northland Elk Rapids 116 River St Elk Rapids\, 49629
UID:e.2409.22306
SEQUENCE:3
DTSTAMP:20260419T141623Z
URL:https://business.elkrapidschamber.org/events/details/holiday-gift-wrapping-station-12-16-2019-22306
END:VEVENT

END:VCALENDAR
