BEGIN:VCALENDAR
VERSION:2.0
PRODID:-//ChamberMaster//Event Calendar 2.0//EN
METHOD:PUBLISH
X-PUBLISHED-TTL:P3D
REFRESH-INTERVAL:P3D
CALSCALE:GREGORIAN
BEGIN:VEVENT
DTSTART:20191214T160000Z
DTEND:20191214T190000Z
X-MICROSOFT-CDO-ALLDAYEVENT:FALSE
SUMMARY:Holiday Crafts for Kids
DESCRIPTION:Take a break from the holiday rush and join Grass River Natural Area staff and volunteers as we create an assortment of nature-inspired holiday crafts and gifts. There will be a variety of supervised craft projects suitable for ages 3   16. Each craft is designed to be completed in an hour or less. More information at grassriver.org. Grass River Natural Area is located at 6500 Alden Highway\, Bellaire MI.
X-ALT-DESC;FMTTYPE=text/html:<span style="font-family: &quot\;Helvetica Neue&quot\;\, Helvetica\, Arial\, sans-serif\; background: white\; font-size: 12pt\;">Take a break from the holiday rush and join Grass River Natural Area staff and volunteers as we create an assortment of nature-inspired holiday crafts and gifts. There will be a variety of supervised craft projects suitable for ages 3 &ndash\; 16. Each craft is designed to be completed in an hour or less.&nbsp\;</span><span style="color: rgb(29\, 34\, 40)\; font-family: &quot\;Helvetica Neue&quot\;\, Helvetica\, Arial\, sans-serif\; font-size: 12pt\;">More information at grassriver.org. Grass River Natural Area is located at 6500 Alden Highway\, Bellaire MI.</span>
LOCATION:Grass River Natural Area
UID:e.2409.22068
SEQUENCE:3
DTSTAMP:20260419T142302Z
URL:https://business.elkrapidschamber.org/events/details/holiday-crafts-for-kids-22068
END:VEVENT

END:VCALENDAR
