BEGIN:VCALENDAR
VERSION:2.0
PRODID:-//ChamberMaster//Event Calendar 2.0//EN
METHOD:PUBLISH
X-PUBLISHED-TTL:P3D
REFRESH-INTERVAL:P3D
CALSCALE:GREGORIAN
BEGIN:VEVENT
DTSTART:20231216T150000Z
DTEND:20231216T200000Z
X-MICROSOFT-CDO-ALLDAYEVENT:FALSE
SUMMARY:Holiday Craft Show at Amvet's
DESCRIPTION:Craft Show Saturday December 16th\n\nAmvets Post 114\n\n10am - 3pm
X-ALT-DESC;FMTTYPE=text/html:Craft Show Saturday December 16th<br />\nAmvets Post 114<br />\n10am - 3pm
LOCATION:410 Bridge St Elk Rapids 49629
UID:e.2409.40347
SEQUENCE:3
DTSTAMP:20260419T180050Z
URL:https://business.elkrapidschamber.org/events/details/holiday-craft-show-at-amvet-s-40347
END:VEVENT

END:VCALENDAR
