BEGIN:VCALENDAR
VERSION:2.0
PRODID:-//ChamberMaster//Event Calendar 2.0//EN
METHOD:PUBLISH
X-PUBLISHED-TTL:P3D
REFRESH-INTERVAL:P3D
CALSCALE:GREGORIAN
BEGIN:VEVENT
DTSTART:20190831T140000Z
DTEND:20190831T160000Z
X-MICROSOFT-CDO-ALLDAYEVENT:FALSE
SUMMARY:HIke at Torch River Preserve
DESCRIPTION:Join us for a 1.6 mile hike at the proposed 290-acre Torch River Nature Preserve\, which is one of the largest unprotected properties along the Torch River. Hear about the ecological values\, recreational potential\, project status and history of the property along the way. \n\n\n\nThe Basics: \n\nThis hike is along a 1.6-mile rolling loop on firm trails. We will be walking at a leisurely pace and making several short stops to share points of interest along the way. This event will occur rain or shine\, but we may cancel for severe weather or thunderstorms - please register as we will send this notice to hike participants via email. \n\n\n\nWhat should I bring? \n\nConsider bringing sunscreen and bug spray \n\nConsider bringing your binoculars or a camera \n\nConsider bringing a re-usable water bottle and some snacks \n\n\n\nDirections: https://goo.gl/maps/bSnN2vE4QUNE5dNW6 \n\n\n\n\n\nThank you for your interest in our event! If you have any questions\, please contact Jon Throop at JThroop@GTRLC.org or 231-922-1259
X-ALT-DESC;FMTTYPE=text/html:<span style="color:#696A6D\;"><span style="font-family:arial\,sans-serif\;"><span style="font-size:9.0pt\;">Join us for a 1.6 mile hike at the proposed 290-acre Torch River Nature Preserve\, which is one of the largest unprotected properties along the Torch River. Hear about the ecological values\, recreational potential\, project status and history of the property along the way.&nbsp\;<br />\n<br />\nThe Basics:&nbsp\;<br />\nThis hike is along a 1.6-mile rolling loop on firm trails. We will be walking at a leisurely pace and making several short stops to share points of interest along the way. This event will occur rain or shine\, but we may cancel for severe weather or thunderstorms - please register as we will send this notice to hike participants via email.&nbsp\;<br />\n<br />\nWhat should I bring?&nbsp\;<br />\nConsider bringing sunscreen and bug spray&nbsp\;<br />\nConsider bringing your binoculars or a camera&nbsp\;<br />\nConsider bringing a re-usable water bottle and some snacks&nbsp\;<br />\n<br />\nDirections:&nbsp\;</span></span></span><a href="https://goo.gl/maps/bSnN2vE4QUNE5dNW6" target="_blank"><span style="color:black\;"><span style="font-family:arial\,sans-serif\;"><span style="font-size:9.0pt\;">https://goo.gl/maps/bSnN2vE4QUNE5dNW6</span></span></span></a><span style="color:#696A6D\;"><span style="font-family:arial\,sans-serif\;"><span style="font-size:9.0pt\;">&nbsp\;<br />\n<br />\n<br />\nThank you for your interest in our event! If you have any questions\, please contact Jon Throop at&nbsp\;</span></span></span><a href="mailto:JThroop@GTRLC.org"><span style="color:black\;"><span style="font-family:arial\,sans-serif\;"><span style="font-size:9.0pt\;">JThroop@GTRLC.org</span></span></span></a><span style="color:#696A6D\;"><span style="font-family:arial\,sans-serif\;"><span style="font-size:9.0pt\;">&nbsp\;or 231-922-1259</span></span></span>
LOCATION:Proposed Torch River Preserve
UID:e.2409.19785
SEQUENCE:3
DTSTAMP:20260423T172004Z
URL:https://business.elkrapidschamber.org/events/details/hike-at-torch-river-preserve-19785
END:VEVENT

END:VCALENDAR
