BEGIN:VCALENDAR
VERSION:2.0
PRODID:-//ChamberMaster//Event Calendar 2.0//EN
METHOD:PUBLISH
X-PUBLISHED-TTL:P3D
REFRESH-INTERVAL:P3D
CALSCALE:GREGORIAN
BEGIN:VEVENT
DTSTART:20190601T180000Z
DTEND:20190601T200000Z
X-MICROSOFT-CDO-ALLDAYEVENT:FALSE
SUMMARY:Herb and Veggies 101
DESCRIPTION:You can grow your own food and we can help you get started! Join us for this free class. Please call to register.
X-ALT-DESC;FMTTYPE=text/html:You can grow your own food and we can help you get started! Join us for this free class. Please call to register.
LOCATION:Pine HIll Nursery
UID:e.2409.19480
SEQUENCE:3
DTSTAMP:20260424T224411Z
URL:https://business.elkrapidschamber.org/events/details/herb-and-veggies-101-19480
END:VEVENT

END:VCALENDAR
