BEGIN:VCALENDAR
VERSION:2.0
PRODID:-//ChamberMaster//Event Calendar 2.0//EN
METHOD:PUBLISH
X-PUBLISHED-TTL:P3D
REFRESH-INTERVAL:P3D
CALSCALE:GREGORIAN
BEGIN:VEVENT
DTSTART:20190224T190000Z
DTEND:20190224T210000Z
X-MICROSOFT-CDO-ALLDAYEVENT:FALSE
SUMMARY:Help Knit a Community Afghan.
DESCRIPTION:The yarn instructions and even the needles are available if you've got the time to knit a 5" square.  Our 2nd Knitting Bee invites knitters of all expertise to join us on the porch.
X-ALT-DESC;FMTTYPE=text/html:The yarn instructions and even the needles are available if you&#39\;ve got the time to knit a 5&quot\; square.&nbsp\; Our 2nd Knitting Bee invites knitters of all expertise to join us on the porch.
LOCATION:ERDL 300 Isle of Pines Elk Rapids
UID:e.2409.18200
SEQUENCE:3
DTSTAMP:20260426T002236Z
URL:https://business.elkrapidschamber.org/events/details/help-knit-a-community-afghan-18200
END:VEVENT

END:VCALENDAR
