BEGIN:VCALENDAR
VERSION:2.0
PRODID:-//ChamberMaster//Event Calendar 2.0//EN
METHOD:PUBLISH
X-PUBLISHED-TTL:P3D
REFRESH-INTERVAL:P3D
CALSCALE:GREGORIAN
BEGIN:VEVENT
DTSTART:20220626T230000Z
DTEND:20220627T010000Z
X-MICROSOFT-CDO-ALLDAYEVENT:FALSE
SUMMARY:Harbor Sunset Concert
DESCRIPTION:Music by Eric Engblade\n\nBring your chairs\, sit back and relax. \n\nEnjoy music as the sun sets!
X-ALT-DESC;FMTTYPE=text/html:Music by Eric Engblade<br />\nBring your chairs\, sit back and relax.&nbsp\;<br />\nEnjoy music as the sun sets!
LOCATION:Edward C. Grace Harbor Pavilion
UID:e.2409.28556
SEQUENCE:3
DTSTAMP:20260420T190851Z
URL:https://business.elkrapidschamber.org/events/details/harbor-sunset-concert-06-26-2022-28556
END:VEVENT

END:VCALENDAR
