BEGIN:VCALENDAR
VERSION:2.0
PRODID:-//ChamberMaster//Event Calendar 2.0//EN
METHOD:PUBLISH
X-PUBLISHED-TTL:P3D
REFRESH-INTERVAL:P3D
CALSCALE:GREGORIAN
BEGIN:VEVENT
DTSTART:20230517T210000Z
DTEND:20230517T230000Z
X-MICROSOFT-CDO-ALLDAYEVENT:FALSE
SUMMARY:Harbor Days Meet & Greet at Short's
DESCRIPTION:Let's celebrate! Stop by Short's Pull Barn in Elk Rapids for a meet-and-greet with the winner of this year's button contest\, Cindy Berck! You'll have the opportunity to buy a button from the very first production batch!\n\n\n\nDate: Wednesday\, May 17\, 2023\, from 5-7pm. Place: Shorts Pull Barn in Elk Rapids Buttons: available for $5.00 (100% of proceeds benefit the Harbor Days festival)\n\n\n\nThank you for supporting Harbor Days and the crew that makes it all happen! Hope to see you there!
X-ALT-DESC;FMTTYPE=text/html:<div class="xdj266r x11i5rnm xat24cr x1mh8g0r x1vvkbs x126k92a" style="margin: 0px\; white-space: pre-wrap\; overflow-wrap: break-word\; font-family: &quot\;Segoe UI Historic&quot\;\, &quot\;Segoe UI&quot\;\, Helvetica\, Arial\, sans-serif\; color: rgb(5\, 5\, 5)\; font-size: 15px\; background-color: rgb(255\, 255\, 255)\;">\n<div dir="auto" style="font-family: inherit\;">Let&#39\;s celebrate! Stop by Short&rsquo\;s Pull Barn in Elk Rapids for a meet-and-greet with the winner of this year&rsquo\;s button contest\, Cindy Berck! You&#39\;ll have the opportunity to buy a button from the very first production batch!</div>\n</div>\n\n<div class="x11i5rnm xat24cr x1mh8g0r x1vvkbs xtlvy1s x126k92a" style="margin: 0.5em 0px 0px\; white-space: pre-wrap\; overflow-wrap: break-word\; font-family: &quot\;Segoe UI Historic&quot\;\, &quot\;Segoe UI&quot\;\, Helvetica\, Arial\, sans-serif\; color: rgb(5\, 5\, 5)\; font-size: 15px\; background-color: rgb(255\, 255\, 255)\;">\n<div dir="auto" style="font-family: inherit\;">Date: Wednesday\, May 17\, 2023\, from 5-7pm. Place: Shorts Pull Barn in Elk Rapids Buttons: available for $5.00 (100% of proceeds benefit the Harbor Days festival)</div>\n</div>\n\n<div class="x11i5rnm xat24cr x1mh8g0r x1vvkbs xtlvy1s x126k92a" style="margin: 0.5em 0px 0px\; white-space: pre-wrap\; overflow-wrap: break-word\; font-family: &quot\;Segoe UI Historic&quot\;\, &quot\;Segoe UI&quot\;\, Helvetica\, Arial\, sans-serif\; color: rgb(5\, 5\, 5)\; font-size: 15px\; background-color: rgb(255\, 255\, 255)\;">\n<div dir="auto" style="font-family: inherit\;">Thank you for supporting Harbor Days and the crew that makes it all happen! Hope to see you there!</div>\n</div>\n
LOCATION:
UID:e.2409.37812
SEQUENCE:3
DTSTAMP:20260420T034821Z
URL:https://business.elkrapidschamber.org/events/details/harbor-days-meet-greet-at-short-s-37812
END:VEVENT

END:VCALENDAR
