BEGIN:VCALENDAR
VERSION:2.0
PRODID:-//ChamberMaster//Event Calendar 2.0//EN
METHOD:PUBLISH
X-PUBLISHED-TTL:P3D
REFRESH-INTERVAL:P3D
CALSCALE:GREGORIAN
BEGIN:VEVENT
DTSTART:20190605T210000Z
DTEND:20190605T230000Z
X-MICROSOFT-CDO-ALLDAYEVENT:FALSE
SUMMARY:Ham and Meatloaf Dinner
DESCRIPTION:Everyone is Welcome!
X-ALT-DESC;FMTTYPE=text/html:Everyone is Welcome!
LOCATION:Kewadin United Methodist Church 7234 Cairn Hwy. Kewadin\, MI
UID:e.2409.19734
SEQUENCE:3
DTSTAMP:20260426T002246Z
URL:https://business.elkrapidschamber.org/events/details/ham-and-meatloaf-dinner-19734
END:VEVENT

END:VCALENDAR
