BEGIN:VCALENDAR
VERSION:2.0
PRODID:-//ChamberMaster//Event Calendar 2.0//EN
METHOD:PUBLISH
X-PUBLISHED-TTL:P3D
REFRESH-INTERVAL:P3D
CALSCALE:GREGORIAN
BEGIN:VEVENT
DTSTART:20241026T190000Z
DTEND:20241026T220000Z
X-MICROSOFT-CDO-ALLDAYEVENT:FALSE
SUMMARY:Halloween Open House at NortShore Dock & Marine
DESCRIPTION:If there's somethin' strange\n\nIn your neighborhood\n\nWho ya gonna call? - GHOSTBUSTERS!!\n\nFree Family Halloween Fun at NorthShore Dock & Marine\n\nSave-the-Date for our Ghostbusters themed open house on Saturday\, October 26th. 3pm to 5pm - {time subject to change}\n\nKids Games\, Treats and Fun - All are welcome to join.\n\n"I ain't afraid of no ghosts!"
X-ALT-DESC;FMTTYPE=text/html:<div class="xdj266r x11i5rnm xat24cr x1mh8g0r x1vvkbs" style="margin: 0px\; overflow-wrap: break-word\; font-family: &quot\;Segoe UI Historic&quot\;\, &quot\;Segoe UI&quot\;\, Helvetica\, Arial\, sans-serif\; color: rgb(5\, 5\, 5)\; font-size: 15px\; background-color: rgb(255\, 255\, 255)\;">If there&#39\;s somethin&#39\; strange<br class="html-br" />\nIn your neighborhood<br class="html-br" />\nWho ya gonna call? - GHOSTBUSTERS!!</div>\n\n<div class="x11i5rnm xat24cr x1mh8g0r x1vvkbs xtlvy1s" style="margin: 0.5em 0px 0px\; overflow-wrap: break-word\; font-family: &quot\;Segoe UI Historic&quot\;\, &quot\;Segoe UI&quot\;\, Helvetica\, Arial\, sans-serif\; color: rgb(5\, 5\, 5)\; font-size: 15px\; background-color: rgb(255\, 255\, 255)\;">Free Family Halloween Fun at NorthShore Dock &amp\; Marine</div>\n\n<div class="x11i5rnm xat24cr x1mh8g0r x1vvkbs xtlvy1s" style="margin: 0.5em 0px 0px\; overflow-wrap: break-word\; font-family: &quot\;Segoe UI Historic&quot\;\, &quot\;Segoe UI&quot\;\, Helvetica\, Arial\, sans-serif\; color: rgb(5\, 5\, 5)\; font-size: 15px\; background-color: rgb(255\, 255\, 255)\;">Save-the-Date for our Ghostbusters themed open house on Saturday\, October 26th. 3pm to 5pm - {time subject to change}<br class="html-br" />\nKids Games\, Treats and Fun - All are welcome to join.</div>\n\n<div class="x11i5rnm xat24cr x1mh8g0r x1vvkbs xtlvy1s" style="margin: 0.5em 0px 0px\; overflow-wrap: break-word\; font-family: &quot\;Segoe UI Historic&quot\;\, &quot\;Segoe UI&quot\;\, Helvetica\, Arial\, sans-serif\; color: rgb(5\, 5\, 5)\; font-size: 15px\; background-color: rgb(255\, 255\, 255)\;">&quot\;I ain&rsquo\;t afraid of no ghosts!&quot\;</div>\n
LOCATION:13948 Bluewater Drive Kewdin\, MI
UID:e.2409.45528
SEQUENCE:3
DTSTAMP:20260424T201424Z
URL:https://business.elkrapidschamber.org/events/details/halloween-open-house-at-nortshore-dock-marine-45528
END:VEVENT

END:VCALENDAR
