BEGIN:VCALENDAR
VERSION:2.0
PRODID:-//ChamberMaster//Event Calendar 2.0//EN
METHOD:PUBLISH
X-PUBLISHED-TTL:P3D
REFRESH-INTERVAL:P3D
CALSCALE:GREGORIAN
BEGIN:VEVENT
DTSTART:20190206T180000Z
DTEND:20190206T210000Z
X-MICROSOFT-CDO-ALLDAYEVENT:FALSE
SUMMARY:Guided Tours @ ER History Museum
DESCRIPTION:Guided tours thru August
X-ALT-DESC;FMTTYPE=text/html:Guided tours thru August<br />\n&nbsp\;
LOCATION:Elk Rapids History Museum
UID:e.2409.18218
SEQUENCE:3
DTSTAMP:20260426T033154Z
URL:https://business.elkrapidschamber.org/events/details/guided-tours-er-history-museum-18218
END:VEVENT

END:VCALENDAR
