BEGIN:VCALENDAR
VERSION:2.0
PRODID:-//ChamberMaster//Event Calendar 2.0//EN
METHOD:PUBLISH
X-PUBLISHED-TTL:P3D
REFRESH-INTERVAL:P3D
CALSCALE:GREGORIAN
BEGIN:VEVENT
DTSTART:20220912T220000Z
DTEND:20220912T230000Z
X-MICROSOFT-CDO-ALLDAYEVENT:FALSE
SUMMARY:Grow & Tell at BOS Wine
DESCRIPTION:Grow & Tell at BOS Wine\n\n\n\nMonday\, September 12\, 6-7 pm\n\nJoin us for a fun and educational event featuring wines from each of our hardworking and amazing growers. Dave will talk with the growers about harvest updates\, testing Brix levels in our grapes\, and discussing vintage predictions compared to the vintages we have in our glasses. Tickets are only $25 and wine club and industry discounts apply\, so book your spot today! Space is limited.\n\n\n\n135 Ames Street\n\nElk Rapids (231) 498-2073
X-ALT-DESC;FMTTYPE=text/html:Grow &amp\; Tell at BOS Wine<br />\n<br />\nMonday\, September 12\, 6-7 pm<br />\nJoin us for a fun and educational event featuring wines from each of our hardworking and amazing growers. Dave will talk with the growers about harvest updates\, testing Brix levels in our grapes\, and discussing vintage predictions compared to the vintages we have in our glasses. Tickets are only $25 and wine club and industry discounts apply\, so book your spot today! Space is limited.<br />\n<br />\n135 Ames Street<br />\nElk Rapids (231) 498-2073
LOCATION:
UID:e.2409.30809
SEQUENCE:3
DTSTAMP:20260420T154446Z
URL:https://business.elkrapidschamber.org/events/details/grow-tell-at-bos-wine-30809
END:VEVENT

END:VCALENDAR
