BEGIN:VCALENDAR
VERSION:2.0
PRODID:-//ChamberMaster//Event Calendar 2.0//EN
METHOD:PUBLISH
X-PUBLISHED-TTL:P3D
REFRESH-INTERVAL:P3D
CALSCALE:GREGORIAN
BEGIN:VEVENT
DTSTART:20220618T150000Z
DTEND:20220618T190000Z
X-MICROSOFT-CDO-ALLDAYEVENT:FALSE
SUMMARY:Green Elk Rapids Nature Fest
DESCRIPTION:A family focused community event to meet regional leaders and organizations with exciting ideas\, plans\, and projects for healthy people and a healthy planet!\n\n\n\n\n\n\n\n\n\n\n\n\n\n\n\nEvent Schedule: 11:00-3:00 \n\n\n\n\n\n\n\n\n\n\n\nOngoing features include interactions\, edible plant ID nature walks\, kids crafts \n \n\n11:00 -Story Be Told\, storyteller presenting children's story time\, inside HERTH.\n\n           -ongoing exhibits\, inside HERTH\n\n12:00-Quick Talks.  Presentations by guest speakers.  Flag pole area.\n\n12:00-Library events for children\, throughout the afternoon.\n\n1:00-Story Be Told\, inside HERTH\n\n1:30-Green Sky Drummers and friends.  Flag pole area.\n\n2:30-Ourselves musicians.  Flag pole area.\n \n\nInformation Station all day: participant map\, list and location of activities for kids. Green Elk Rapids booth\, directions to public restrooms\, lost and found. Inside HERTH\n\n\n\n\n\n\n\n \n\nThe 12:00 quick talks are a good time to be there and be part of a big crowd!!!.\n\n \n\nThe Quick Talk speakers will be 5-10 minutes each\, with brief Q & A\, and their organizations all have a booth\, too:\n\n-Glen Chown\, Executive Director\,  GTRLC\n\n-Cyndie Roach\, Director\, Butterfly Zoo\, sponsor of Monarch City program\n\n-Koffi Kpachavi\, Executive Director\, Grand Traverse Conservation District\n\n-Katie Asher\, Owner\, Slip Vintage Clothing
X-ALT-DESC;FMTTYPE=text/html:<span style="color:#00cc33\;"><strong>A family focused community event to meet regional leaders and organizations with exciting ideas\, plans\, and projects for healthy people and a healthy planet!</strong></span>\n<div class="selected" id="layout-content" style="box-sizing: border-box\; display: flex\; flex: 6 1 0%\; flex-direction: column\; background-color: rgb(255\, 255\, 255)\; height: 560.696px\;">\n<div class="content frame-content" role="main" style="box-sizing: border-box\; padding: 1rem\; height: 560.696px\; width: 698.435px\; overflow: auto\; flex: 1 1 0%\;">\n<div id="message-content" style="box-sizing: border-box\;">\n<div aria-labelledby="aria-label-messagebody" class="rightcol" role="region" style="box-sizing: border-box\;">\n<div id="messagebody" style="box-sizing: border-box\;">\n<div class="message-htmlpart" id="message-htmlpart1" style="box-sizing: border-box\; padding-top: 0.5rem\; position: relative\;">\n<div class="rcmBody" style="box-sizing: border-box\; margin: 0px auto !important\; overflow-wrap: break-word\;">\n<div style="box-sizing: border-box\; overflow-wrap: break-word\;">\n<div style="box-sizing: border-box\; overflow-wrap: break-word\;">\n<div style="box-sizing: border-box\;">\n<blockquote style="box-sizing: border-box\; margin: 2px 0px\; overflow: hidden\; text-overflow: ellipsis\; color: rgb(0\, 106\, 157)\; border-left: 2px solid rgb(0\, 106\, 157)\; border-right: 2px solid rgb(0\, 106\, 157)\; background-color: rgba(241\, 243\, 244\, 0.5)\; padding: 0px 0.4em\; font-family: Roboto\, sans-serif\; font-size: 14px\;" type="cite">\n<div style="box-sizing: border-box\;">\n<div dir="ltr" style="box-sizing: border-box\;">\n<div dir="ltr" style="box-sizing: border-box\;">\n<div dir="ltr" style="box-sizing: border-box\;">\n<div style="box-sizing: border-box\; line-height: 1.2\; margin-left: 36pt\; margin-top: 0pt\; margin-bottom: 0pt\;"><span id="v1m_6610195545158850337gmail-docs-internal-guid-7537f4a4-7fff-76d4-4d7b-147864bf56de" style="box-sizing: border-box\;"><span style="box-sizing: border-box\; font-size: 12pt\; font-family: Calibri\, sans-serif\; font-weight: 700\; font-variant-numeric: normal\; font-variant-east-asian: normal\; vertical-align: baseline\; white-space: pre-wrap\;">Event Schedule: </span><span style="box-sizing: border-box\; font-size: 12pt\; font-family: Calibri\, sans-serif\; font-variant-numeric: normal\; font-variant-east-asian: normal\; vertical-align: baseline\; white-space: pre-wrap\;"><span style="box-sizing: border-box\; font-weight: bolder\;">11:00-3:00&nbsp\;</span></span></span></div>\n</div>\n</div>\n</div>\n</div>\n</blockquote>\n\n<blockquote style="box-sizing: border-box\; margin: 2px 0px\; overflow: hidden\; text-overflow: ellipsis\; color: rgb(0\, 106\, 157)\; border-left: 2px solid rgb(0\, 106\, 157)\; border-right: 2px solid rgb(0\, 106\, 157)\; background-color: rgba(241\, 243\, 244\, 0.5)\; padding: 0px 0.4em\; font-family: Roboto\, sans-serif\; font-size: 14px\;" type="cite">\n<div style="box-sizing: border-box\;">\n<div dir="ltr" style="box-sizing: border-box\;">\n<div dir="ltr" style="box-sizing: border-box\;">\n<div dir="ltr" style="box-sizing: border-box\;">\n<div style="box-sizing: border-box\; line-height: 1.2\; margin-left: 36pt\; margin-top: 0pt\; margin-bottom: 0pt\;"><span id="v1m_6610195545158850337gmail-docs-internal-guid-7537f4a4-7fff-76d4-4d7b-147864bf56de" style="box-sizing: border-box\;"><span style="box-sizing: border-box\; font-size: 12pt\; font-family: Calibri\, sans-serif\; font-variant-numeric: normal\; font-variant-east-asian: normal\; vertical-align: baseline\; white-space: pre-wrap\;">Ongoing features include interactions\, edible plant ID nature walks\, kids crafts&nbsp\;</span></span></div>\n&nbsp\;\n\n<div style="box-sizing: border-box\; line-height: 1.2\; margin-left: 36pt\; margin-top: 0pt\; margin-bottom: 0pt\;"><span id="v1m_6610195545158850337gmail-docs-internal-guid-7537f4a4-7fff-76d4-4d7b-147864bf56de" style="box-sizing: border-box\;"><span style="box-sizing: border-box\; font-size: 12pt\; font-family: Calibri\, sans-serif\; font-variant-numeric: normal\; font-variant-east-asian: normal\; vertical-align: baseline\; white-space: pre-wrap\;">11:00 -</span><span style="box-sizing: border-box\; font-size: 12pt\; font-family: Calibri\, sans-serif\; font-style: italic\; font-variant-numeric: normal\; font-variant-east-asian: normal\; vertical-align: baseline\; white-space: pre-wrap\;">Story Be Told</span><span style="box-sizing: border-box\; font-size: 12pt\; font-family: Calibri\, sans-serif\; font-variant-numeric: normal\; font-variant-east-asian: normal\; vertical-align: baseline\; white-space: pre-wrap\;">\, storyteller presenting children&#39\;s story time\, inside HERTH.</span></span></div>\n\n<div style="box-sizing: border-box\; line-height: 1.2\; margin-left: 36pt\; margin-top: 0pt\; margin-bottom: 0pt\;"><span id="v1m_6610195545158850337gmail-docs-internal-guid-7537f4a4-7fff-76d4-4d7b-147864bf56de" style="box-sizing: border-box\;"><span style="box-sizing: border-box\; font-size: 12pt\; font-family: Calibri\, sans-serif\; font-variant-numeric: normal\; font-variant-east-asian: normal\; vertical-align: baseline\; white-space: pre-wrap\;">&nbsp\;&nbsp\;&nbsp\;&nbsp\;&nbsp\;&nbsp\;&nbsp\;&nbsp\;&nbsp\;&nbsp\;&nbsp\;-ongoing exhibits\, inside HERTH</span></span></div>\n\n<div style="box-sizing: border-box\; line-height: 1.2\; margin-left: 36pt\; margin-top: 0pt\; margin-bottom: 0pt\;"><span id="v1m_6610195545158850337gmail-docs-internal-guid-7537f4a4-7fff-76d4-4d7b-147864bf56de" style="box-sizing: border-box\;"><span style="box-sizing: border-box\; font-size: 12pt\; font-family: Calibri\, sans-serif\; font-variant-numeric: normal\; font-variant-east-asian: normal\; vertical-align: baseline\; white-space: pre-wrap\;">12:00-Quick Talks.&nbsp\; Presentations by guest speakers.&nbsp\; Flag pole area.</span></span></div>\n\n<div style="box-sizing: border-box\; line-height: 1.2\; margin-left: 36pt\; margin-top: 0pt\; margin-bottom: 0pt\;"><span id="v1m_6610195545158850337gmail-docs-internal-guid-7537f4a4-7fff-76d4-4d7b-147864bf56de" style="box-sizing: border-box\;"><span style="box-sizing: border-box\; font-size: 12pt\; font-family: Calibri\, sans-serif\; font-variant-numeric: normal\; font-variant-east-asian: normal\; vertical-align: baseline\; white-space: pre-wrap\;">12:00-Library events for children\, throughout the afternoon.</span></span></div>\n\n<div style="box-sizing: border-box\; line-height: 1.2\; margin-left: 36pt\; margin-top: 0pt\; margin-bottom: 0pt\;"><span id="v1m_6610195545158850337gmail-docs-internal-guid-7537f4a4-7fff-76d4-4d7b-147864bf56de" style="box-sizing: border-box\;"><span style="box-sizing: border-box\; font-size: 12pt\; font-family: Calibri\, sans-serif\; font-variant-numeric: normal\; font-variant-east-asian: normal\; vertical-align: baseline\; white-space: pre-wrap\;">1:00-</span><span style="box-sizing: border-box\; font-size: 12pt\; font-family: Calibri\, sans-serif\; font-style: italic\; font-variant-numeric: normal\; font-variant-east-asian: normal\; vertical-align: baseline\; white-space: pre-wrap\;">Story Be Told</span><span style="box-sizing: border-box\; font-size: 12pt\; font-family: Calibri\, sans-serif\; font-variant-numeric: normal\; font-variant-east-asian: normal\; vertical-align: baseline\; white-space: pre-wrap\;">\, inside HERTH</span></span></div>\n\n<div style="box-sizing: border-box\; line-height: 1.2\; margin-left: 36pt\; margin-top: 0pt\; margin-bottom: 0pt\;"><span id="v1m_6610195545158850337gmail-docs-internal-guid-7537f4a4-7fff-76d4-4d7b-147864bf56de" style="box-sizing: border-box\;"><span style="box-sizing: border-box\; font-size: 12pt\; font-family: Calibri\, sans-serif\; font-variant-numeric: normal\; font-variant-east-asian: normal\; vertical-align: baseline\; white-space: pre-wrap\;">1:30-Green Sky Drummers and friends.&nbsp\; Flag pole area.</span></span></div>\n\n<div style="box-sizing: border-box\; line-height: 1.2\; margin-left: 36pt\; margin-top: 0pt\; margin-bottom: 0pt\;"><span id="v1m_6610195545158850337gmail-docs-internal-guid-7537f4a4-7fff-76d4-4d7b-147864bf56de" style="box-sizing: border-box\;"><span style="box-sizing: border-box\; font-size: 12pt\; font-family: Calibri\, sans-serif\; font-variant-numeric: normal\; font-variant-east-asian: normal\; vertical-align: baseline\; white-space: pre-wrap\;">2:30-</span><span style="box-sizing: border-box\; font-size: 12pt\; font-family: Calibri\, sans-serif\; font-style: italic\; font-variant-numeric: normal\; font-variant-east-asian: normal\; vertical-align: baseline\; white-space: pre-wrap\;">Ourselves</span><span style="box-sizing: border-box\; font-size: 12pt\; font-family: Calibri\, sans-serif\; font-variant-numeric: normal\; font-variant-east-asian: normal\; vertical-align: baseline\; white-space: pre-wrap\;"> musicians.&nbsp\; Flag pole area.</span></span></div>\n&nbsp\;\n\n<div style="box-sizing: border-box\; line-height: 1.2\; margin-left: 36pt\; margin-top: 0pt\; margin-bottom: 0pt\;"><span id="v1m_6610195545158850337gmail-docs-internal-guid-7537f4a4-7fff-76d4-4d7b-147864bf56de" style="box-sizing: border-box\;"><span style="box-sizing: border-box\; font-size: 12pt\; font-family: Calibri\, sans-serif\; font-weight: 700\; font-variant-numeric: normal\; font-variant-east-asian: normal\; vertical-align: baseline\; white-space: pre-wrap\;">Information Station all day:</span><span style="box-sizing: border-box\; font-size: 12pt\; font-family: Calibri\, sans-serif\; font-variant-numeric: normal\; font-variant-east-asian: normal\; vertical-align: baseline\; white-space: pre-wrap\;"> participant map\, list and location of activities for kids. Green Elk Rapids booth\, directions to public restrooms\, lost and found. Inside HERTH</span></span></div>\n</div>\n</div>\n</div>\n</div>\n</blockquote>\n</div>\n\n<div style="box-sizing: border-box\;">&nbsp\;</div>\n\n<div style="box-sizing: border-box\;"><span style="box-sizing: border-box\; font-weight: bolder\;">The 12:00 quick talks</span>&nbsp\;are a good time to be there and be part of a big crowd!!!.</div>\n\n<div style="box-sizing: border-box\;">&nbsp\;</div>\n\n<div style="box-sizing: border-box\;">The&nbsp\;<i style="box-sizing: border-box\;">Quick Tal</i>k speakers will be 5-10 minutes each\, with brief Q &amp\; A\, and their organizations all have a booth\, too:</div>\n\n<div style="box-sizing: border-box\;">-Glen Chown\, Executive Director\, &nbsp\;GTRLC</div>\n\n<div style="box-sizing: border-box\;">-Cyndie Roach\, Director\, Butterfly Zoo\, sponsor of Monarch City program</div>\n\n<div style="box-sizing: border-box\;">-Koffi Kpachavi\, Executive Director\, Grand Traverse Conservation District</div>\n\n<div style="box-sizing: border-box\;">-Katie Asher\, Owner\, Slip Vintage Clothing</div>\n</div>\n</div>\n</div>\n</div>\n</div>\n</div>\n</div>\n</div>\n</div>\n<br />\n&nbsp\;
LOCATION:Veterans Memorial Park
UID:e.2409.27739
SEQUENCE:3
DTSTAMP:20260420T202637Z
URL:https://business.elkrapidschamber.org/events/details/green-elk-rapids-nature-fest-27739
END:VEVENT

END:VCALENDAR
