BEGIN:VCALENDAR
VERSION:2.0
PRODID:-//ChamberMaster//Event Calendar 2.0//EN
METHOD:PUBLISH
X-PUBLISHED-TTL:P3D
REFRESH-INTERVAL:P3D
CALSCALE:GREGORIAN
BEGIN:VEVENT
DTSTART:20190801T130000Z
DTEND:20190801T190000Z
X-MICROSOFT-CDO-ALLDAYEVENT:FALSE
SUMMARY:Grass River Summer Camp
DESCRIPTION:Grass River Natural Area will be hosting a 2019  summer day camp for children 6 to 11 years old. Your children can spend their summer catching frogs in the wetlands\, dipping nets in Finch Creek\, birding along the boardwalks\, or enjoying the view along Grass River - perfect for the child that loves the outdoors. Grass River Natural Area entrance is located at 6500 Alden Highway\, Bellaire\, MI.  hppt://www.grassriver.org/summer-camp.html
X-ALT-DESC;FMTTYPE=text/html:Grass River Natural Area will be hosting a 2019 <strong>&#8203\;summer day camp</strong> for children <strong>6 to 11 years old.</strong> Your children can spend their summer catching frogs in the wetlands\, dipping nets in Finch Creek\, birding along the boardwalks\, or enjoying the view along Grass River - perfect for the child that loves the outdoors.&nbsp\;Grass River Natural Area entrance is located at 6500 Alden Highway\, Bellaire\, MI.&nbsp\; hppt://<a href="http://www.grassriver.org/summer-camp.html">www.grassriver.org/summer-camp.html</a>
LOCATION:Grass River Natural Area 6500 Alden Highway Bellaire\, MI
UID:e.2409.18569
SEQUENCE:3
DTSTAMP:20260423T053312Z
URL:https://business.elkrapidschamber.org/events/details/grass-river-summer-camp-08-01-2019-18569
END:VEVENT

END:VCALENDAR
