BEGIN:VCALENDAR
VERSION:2.0
PRODID:-//ChamberMaster//Event Calendar 2.0//EN
METHOD:PUBLISH
X-PUBLISHED-TTL:P3D
REFRESH-INTERVAL:P3D
CALSCALE:GREGORIAN
BEGIN:VEVENT
DTSTART:20220503T210000Z
DTEND:20220504T020000Z
X-MICROSOFT-CDO-ALLDAYEVENT:FALSE
SUMMARY:Grass River Spring Fling at the Dockside
DESCRIPTION:There is no easier way to support Grass River Natural Area than enjoying food and drinks on the beautiful shores of Torch Lake. Join us at The Dockside south of Bellaire and enjoy great food with wonderful people in a relaxing environment. 50% of all food and drink proceeds that evening benefit GRNA. More information at grassriver.org. The Dockside is located at 6340 Old Torch Lake Dr.\, Bellaire MI.
X-ALT-DESC;FMTTYPE=text/html:<span style="background-attachment: scroll\; background-clip: border-box\; background-color: white\; background-image: none\; background-origin: padding-box\; background-position-x: 0%\; background-position-y: 0%\; background-repeat: repeat\; background-size: auto\; color: black\; font-family: Helvetica Neue\,Helvetica\,Arial\,sans-serif\; font-size: 12pt\; font-style: normal\; font-variant: normal\; font-weight: 400\; letter-spacing: normal\; orphans: 2\; text-align: left\; text-decoration: none\; text-indent: 0px\; text-transform: none\; -webkit-text-stroke-width: 0px\; white-space: normal\; word-spacing: 0px\;">There is no easier way to support Grass River Natural Area than enjoying food and drinks on the beautiful shores of Torch Lake. Join us at The Dockside south of Bellaire and enjoy great food with wonderful people in a relaxing environment. 50% of all food and drink proceeds that evening benefit GRNA. More information at <a href="http://grassriver.org">grassriver.org</a>. The Dockside is located at 6340 Old Torch Lake Dr.\, Bellaire MI</span><span style="color: rgb(29\, 34\, 40)\; font-family: Helvetica Neue\,Helvetica\,Arial\,sans-serif\; font-size: 12pt\; font-style: normal\; font-variant: normal\; font-weight: 400\; letter-spacing: normal\; orphans: 2\; text-align: left\; text-decoration: none\; text-indent: 0px\; text-transform: none\; -webkit-text-stroke-width: 0px\; white-space: normal\; word-spacing: 0px\;">.</span>
LOCATION:Dockside Torch Lake 6340 Old Torch Lake Drive Bellaire\, MI 49615 (231) 377-7777
UID:e.2409.30191
SEQUENCE:3
DTSTAMP:20260420T214912Z
URL:https://business.elkrapidschamber.org/events/details/grass-river-spring-fling-at-the-dockside-30191
END:VEVENT

END:VCALENDAR
