BEGIN:VCALENDAR
VERSION:2.0
PRODID:-//ChamberMaster//Event Calendar 2.0//EN
METHOD:PUBLISH
X-PUBLISHED-TTL:P3D
REFRESH-INTERVAL:P3D
CALSCALE:GREGORIAN
BEGIN:VEVENT
DTSTART:20210110T150000Z
DTEND:20210110T210000Z
X-MICROSOFT-CDO-ALLDAYEVENT:FALSE
SUMMARY:Grass River Shiver: 5K/10K Snowshoe Race Fundraiser
DESCRIPTION:2021 Grass River Shiver - 5k/10k Snowshoe Race Fundraiser\n\n\n\nDawn to Dusk each day   run or walk either day at your convenience\n\nPut on your snowshoes and run or walk through the beautiful snow-covered Grass River Natural Area as a fundraiser for the education programs at GRNA! This snowshoe race in northern Michigan is only a short distance from Traverse City. A prize is awarded to overall male and female 5K/10K winners. 10k runners do two loops of the course\, and each person. Walkers are welcome\, too!\n\n \n\nRegistration includes:\n\n- a one-of-a-kind race on a marked course on beautiful trails through wetlands and woods\n\n- a soup voucher for a free soup lunch to-go from Short's Brewery\n\n- after-race snacks and refreshments\n\n- 1st place prize is awarded to one overall male and female for the 5K and 10k\n\n-Some Grass River swag - a GRNA neck gaiter/buff for each runner/walker!\n\n \n\nThis year the Shiver event has been changed to a hybrid format to meet distancing protocols.  Run or walk at your convenience on Saturday or Sunday. See the event schedule for more details.\n\n \n\nSaturday\, January 9 and Sunday\, January 10:\n\n \n\n10:00 am to 4:00 pm - The Grass River Center will be open and staffed for 6 hours on Saturday and Sunday. The Center is heated with restrooms. We are asking that only one group/household comes indoors at a time. The course is available from dawn to dusk.\n\n \n\nAn official clock will start at 10am on Saturday morning for those that would like an official clocked time to run their race\, but you can run the course any time Saturday or Sunday at your convenience and clock your time. Upload your time results on the GRNA webpage after you finish. Also\, upload any photos you took at or during the race! Race times must be submitted by midnight Sunday night\, Jan 10. You can pick up your race materials at the Grass River Center before or after you race. \n\n \n\nGo to www.grassriver.org to register.
X-ALT-DESC;FMTTYPE=text/html:<strong><span style="background:white\;"><span style="font-size:14pt\;">2021 Grass River Shiver </span></span></strong><span style="background:white\;"><span style="font-size:14pt\;">-</span></span><span style="font-size:14pt\;"> <strong><span style="background:white\;"><span style="font-family:calibri\,sans-serif\;">5k/10k Snowshoe Race Fundraiser</span></span></strong></span><br />\n<br />\n<strong><span style="background:white\;"><span style="font-family:calibri\,sans-serif\;"><span style="font-size:14pt\;">Dawn to Dusk each day &ndash\; run or walk either day at your convenience</span></span></span></strong><br />\n<span style="background:white\;"><span style="color:black\;"><span style="font-size:12.0pt\;">Put on your snowshoes and run or walk through the beautiful snow-covered Grass River Natural Area as a fundraiser for the education programs at GRNA! This snowshoe race in northern Michigan is only a short distance from Traverse City. A prize is awarded to overall male and female 5K/10K winners. 10k runners do two loops of the course\, and each person. Walkers are welcome\, too!</span></span></span><br />\n&nbsp\;<br />\n<span style="background:white\;"><span style="color:black\;"><span style="font-size:12.0pt\;">Registration includes:<br />\n- a one-of-a-kind race on a marked course on beautiful trails through wetlands and woods<br />\n- a soup voucher for a free soup lunch to-go from Short&#39\;s Brewery<br />\n- after-race snacks and refreshments<br />\n- 1st place prize is awarded to one overall male and female for the 5K and 10k<br />\n-Some Grass River swag - a GRNA neck gaiter/buff for each runner/walker!</span></span></span><br />\n&nbsp\;<br />\n<strong><span style="background:white\;font-weight:normal\;"><span style="color:black\;"><span style="font-family:calibri\,sans-serif\;"><span style="font-size:12.0pt\;">This year the Shiver event has been changed to a hybrid format to meet distancing protocols. &#8203\;Run or walk at your convenience&nbsp\;on Saturday or Sunday</span></span></span></span></strong><strong><span style="background:white\;"><span style="color:black\;"><span style="font-size:12.0pt\;">. </span></span></span></strong><span style="background:white\;"><span style="color:black\;"><span style="font-size:12.0pt\;">See the event schedule for more details.</span></span></span><br />\n&nbsp\;<br />\n<span style="background:white\;"><span style="font-size:12pt\;">Saturday\, January 9 and Sunday\, January 10:</span></span><br />\n&nbsp\;<br />\n<span style="background:white\;"><span style="font-size:12pt\;">10:00 am to 4:00 pm - The Grass River Center will be open and staffed for 6 hours on Saturday and Sunday. The Center is heated with restrooms. We are asking that only one group/household comes indoors at a time. The course is available from dawn to dusk.</span></span><br />\n&nbsp\;<br />\n<span style="background:white\;"><span style="font-size:12pt\;">An official clock will start at 10am on Saturday morning for those that would like an official clocked time to run their race\, but you can run the course any time Saturday or Sunday at your convenience and clock your time. Upload your time results on the GRNA webpage after you finish. Also\, upload any photos you took at or during the race! Race times must be submitted by midnight Sunday night\, Jan 10. You can pick up your race materials at the Grass River Center before or after you race.&nbsp\;</span></span><br />\n&nbsp\;<br />\n<em><span style="background:white\;"><span style="font-family:calibri\,sans-serif\;"><span style="font-size:12pt\;">Go to </span></span></span></em><span style="font-family:calibri\,sans-serif\;"><span style="font-size:11.0pt\;"><a href="http://www.grassriver.org/"><span style="background:white\;"><span style="font-size:12.0pt\;">www.grassriver.org</span></span></a></span></span><em><span style="background:white\;"><span style="font-family:calibri\,sans-serif\;"><span style="font-size:12pt\;"> to register.&nbsp\;</span></span></span></em>
LOCATION:Grass River Natural Area 6500 Alden Hwy Bellaire\, MI 49615
UID:e.2409.24429
SEQUENCE:3
DTSTAMP:20260421T205901Z
URL:https://business.elkrapidschamber.org/events/details/grass-river-shiver-5k-10k-snowshoe-race-fundraiser-01-10-2021-24429
END:VEVENT

END:VCALENDAR
