BEGIN:VCALENDAR
VERSION:2.0
PRODID:-//ChamberMaster//Event Calendar 2.0//EN
METHOD:PUBLISH
X-PUBLISHED-TTL:P3D
REFRESH-INTERVAL:P3D
CALSCALE:GREGORIAN
BEGIN:VEVENT
DTSTART:20230211T170000Z
DTEND:20230211T200000Z
X-MICROSOFT-CDO-ALLDAYEVENT:FALSE
SUMMARY:Grass River Natural Area Winterfest
DESCRIPTION:WhenSat\, February 11\, 12pm   3pm\n\nDescriptionWINTERFEST! Saturday February 11 - 12 noon to 3:00pm\, Free\, donations welcome A fun-filled family event with outdoor and indoor activities\, snowshoeing and x-country skiing weather permitting\, crafts\, games\, and s'mores. Plus a blazing fire to keep you warm.
X-ALT-DESC;FMTTYPE=text/html:<div class="detail-item" style="padding: 3px 0px\; margin: 0px\; font-family: Arial\, sans-serif\; font-size: 12px\; background-color: rgb(255\, 255\, 255)\;"><span class="event-details-label" style="display: block\; clear: left\; float: left\; font-weight: bold\; margin: 0px\; width: 7em\; color: rgb(78\, 78\, 78)\;">When</span><span class="event-when" style="display: block\; margin-left: 7em\;">Sat\, February 11\, 12pm &ndash\; 3pm</span></div>\n\n<div class="detail-item" style="padding: 3px 0px\; margin: 0px\; font-family: Arial\, sans-serif\; font-size: 12px\; background-color: rgb(255\, 255\, 255)\;"><span class="event-details-label" style="display: block\; clear: left\; float: left\; font-weight: bold\; margin: 0px\; width: 7em\; color: rgb(78\, 78\, 78)\;">Description</span><span class="event-description" style="display: block\; margin-left: 7em\; max-height: 190px\; overflow: hidden auto\; white-space: pre-wrap\;">WINTERFEST! Saturday February 11 - 12 noon to 3:00pm\, Free\, donations welcome A fun-filled family event with outdoor and indoor activities\, snowshoeing and x-country skiing weather permitting\, crafts\, games\, and s&#39\;mores. Plus a blazing fire to keep you warm.</span></div>\n
LOCATION:6500 Alden Hwy\, Bellaire\, MI 49615
UID:e.2409.35520
SEQUENCE:3
DTSTAMP:20260420T070609Z
URL:https://business.elkrapidschamber.org/events/details/grass-river-natural-area-winterfest-35520
END:VEVENT

END:VCALENDAR
