BEGIN:VCALENDAR
VERSION:2.0
PRODID:-//ChamberMaster//Event Calendar 2.0//EN
METHOD:PUBLISH
X-PUBLISHED-TTL:P3D
REFRESH-INTERVAL:P3D
CALSCALE:GREGORIAN
BEGIN:VEVENT
DTSTART:20231229T150000Z
DTEND:20231229T200000Z
X-MICROSOFT-CDO-ALLDAYEVENT:FALSE
SUMMARY:Grass River Natural Area Winter Camp
DESCRIPTION:2-Day Winter Camp\n\nThursday December 28 and Friday December 29\, 10:00am to 3:00pm\, Ages 7 to 12\, $80 per camper for 2-day camp\, limited space\, must pre-register!\n\nGrass River Natural Area will be hosting a 2023 2-day winter camp for children 7 to 12 years old. Your children can spend their winter break building a snow shelter\, tracking animals along the boardwalks\, building a campfire\, or enjoying the view along Grass River - perfect for the child that loves the outdoors in winter.  https://www.grassriver.org/winter-camp.html
X-ALT-DESC;FMTTYPE=text/html:<strong style="font-family: Arial\, sans-serif\; font-size: small\; white-space-collapse: preserve\; background-color: rgb(255\, 255\, 255)\;">2-Day Winter Camp</strong><br style="font-family: Arial\, sans-serif\; font-size: small\; white-space-collapse: preserve\; background-color: rgb(255\, 255\, 255)\;" />\n<em style="font-family: Arial\, sans-serif\; font-size: small\; white-space-collapse: preserve\; background-color: rgb(255\, 255\, 255)\;">Thursday December 28 and Friday December 29\, 10:00am to 3:00pm\, Ages 7 to 12\, $80 per camper for 2-day camp\, limited space\, must pre-register!</em><br style="font-family: Arial\, sans-serif\; font-size: small\; white-space-collapse: preserve\; background-color: rgb(255\, 255\, 255)\;" />\n<span style="font-family: Arial\, sans-serif\; font-size: small\; white-space-collapse: preserve\; background-color: rgb(255\, 255\, 255)\;">Gr</span><wbr style="font-family: Arial\, sans-serif\; font-size: small\; white-space-collapse: preserve\; background-color: rgb(255\, 255\, 255)\;" /><span style="font-family: Arial\, sans-serif\; font-size: small\; white-space-collapse: preserve\; background-color: rgb(255\, 255\, 255)\;">ass River Natural Area will be hosting a 2023 2-day winter camp for children 7 to 12 years old. Your children can spend their winter break building a snow shelter\, tracking animals along the boardwalks\, building a campfire\, or enjoying the view along Grass River - perfect for the child that loves the outdoors in winter.&nbsp\;&nbsp\;</span><a href="https://www.google.com/url?q=https%3A%2F%2Fwww.grassriver.org%2Fwinter-camp.html&amp\;sa=D&amp\;ust=1703980500000000&amp\;usg=AOvVaw2M2fow7_RRHpHVpTRLSRFV" style="font-family: Arial\, sans-serif\; font-size: small\; white-space-collapse: preserve\; background-color: rgb(255\, 255\, 255)\;" target="_blank">https:<wbr />//www.grassrive<wbr />r.org/winter-ca<wbr />mp.html</a>
LOCATION:
UID:e.2409.40405
SEQUENCE:3
DTSTAMP:20260419T175908Z
URL:https://business.elkrapidschamber.org/events/details/grass-river-natural-area-winter-camp-12-29-2023-40405
END:VEVENT

END:VCALENDAR
