BEGIN:VCALENDAR
VERSION:2.0
PRODID:-//ChamberMaster//Event Calendar 2.0//EN
METHOD:PUBLISH
X-PUBLISHED-TTL:P3D
REFRESH-INTERVAL:P3D
CALSCALE:GREGORIAN
BEGIN:VEVENT
DTSTART:20220507T130000Z
DTEND:20220507T153000Z
X-MICROSOFT-CDO-ALLDAYEVENT:FALSE
SUMMARY:Grass River Natural Area Stream Monitoring Training
DESCRIPTION:Stream Monitoring Training\n\nSaturday\, May 7\n\n9:00 am - 11:30 am \n\nTwice each year\, Grass River Natural Area near Bellaire monitors several sites along the 3 major streams running through the natural area to assess the health of our waterways. Every year\, we train new volunteers to help us collect this data and contribute to keeping GRNA's creeks healthy. If you're interested in learning how to collect this data\, join us!
X-ALT-DESC;FMTTYPE=text/html:<strong><em><span style="color:#202020\;"><span style="font-family:calibri\,sans-serif\;"><span style="font-size:12.0pt\;">Stream Monitoring Training<br />\nSaturday\, May 7<br />\n9:00 am -&nbsp\;11:30 am&nbsp\;</span></span></span></em></strong><br />\n<span style="color:#202020\;"><span style="font-family:calibri\,sans-serif\;"><span style="font-size:12.0pt\;">Twice each year\, Grass River Natural Area near Bellaire monitors several sites along the 3 major streams running through the natural area to assess the health of our waterways. Every year\, we train new volunteers to help us collect this data and contribute to keeping GRNA&#39\;s creeks healthy. If you&#39\;re interested in learning how to collect this data\, join us!</span></span></span><br />\n&nbsp\;
LOCATION:Grass River Natural Area 6500 Alden Hwy\, P.O. Box 231 Bellaire\, MI 49615 Office: 231.533.8314 Grass River Center: 231.533.8576
UID:e.2409.30280
SEQUENCE:3
DTSTAMP:20260420T215511Z
URL:https://business.elkrapidschamber.org/events/details/grass-river-natural-area-stream-monitoring-training-30280
END:VEVENT

END:VCALENDAR
