BEGIN:VCALENDAR
VERSION:2.0
PRODID:-//ChamberMaster//Event Calendar 2.0//EN
METHOD:PUBLISH
X-PUBLISHED-TTL:P3D
REFRESH-INTERVAL:P3D
CALSCALE:GREGORIAN
BEGIN:VEVENT
DTSTART:20230511T213000Z
DTEND:20230511T233000Z
X-MICROSOFT-CDO-ALLDAYEVENT:FALSE
SUMMARY:Grass River Natural Area Stream Monitor Training
DESCRIPTION:Thursday\, May 11\n\n5:30 pm (2 hrs.)\n\nTwice each year\, Grass River Natural Area monitors several sites along the 3 major streams running through the natural area\, to assess the health of their waterways. Every year\, GRNA staff train new volunteers to help collect this data that contributes to keeping GRNA's creeks healthy. If you're interested in learning how to collect this data\, sign up for this training by contacting Emily at emily@grassriver.org. Pre-registration is required.
X-ALT-DESC;FMTTYPE=text/html:<strong><em><span style="color:#202020\;"><span style="font-family:calibri\,sans-serif\;"><span style="font-size:12.0pt\;">Thursday\, May 11<br />\n5:30 pm (2 hrs.)</span></span></span></em></strong><br />\n<span style="color:#202020\;"><span style="font-family:calibri\,sans-serif\;"><span style="font-size:12.0pt\;">Twice each year\, Grass River Natural Area monitors several sites along the 3 major streams running through the natural area\, to assess the health of their waterways. Every year\, GRNA staff train new volunteers to help collect this data that&nbsp\;contributes to keeping GRNA&#39\;s creeks healthy. If you&#39\;re interested in learning how to collect this data\, sign up for this training by contacting Emily at </span></span></span><span style="font-family:calibri\,sans-serif\;"><span style="font-size:11.0pt\;"><a href="mailto:emily@grassriver.org"><span style="font-size:12.0pt\;">emily@grassriver.org</span></a></span></span><span style="color:#202020\;"><span style="font-family:calibri\,sans-serif\;"><span style="font-size:12.0pt\;">. Pre-registration is required.</span></span></span><br />\n&nbsp\;
LOCATION:
UID:e.2409.37529
SEQUENCE:3
DTSTAMP:20260420T035130Z
URL:https://business.elkrapidschamber.org/events/details/grass-river-natural-area-stream-monitor-training-37529
END:VEVENT

END:VCALENDAR
