BEGIN:VCALENDAR
VERSION:2.0
PRODID:-//ChamberMaster//Event Calendar 2.0//EN
METHOD:PUBLISH
X-PUBLISHED-TTL:P3D
REFRESH-INTERVAL:P3D
CALSCALE:GREGORIAN
BEGIN:VEVENT
DTSTART:20220521T130000Z
DTEND:20220521T160000Z
X-MICROSOFT-CDO-ALLDAYEVENT:FALSE
SUMMARY:Grass River Natural Area Spring Stewardship Day
DESCRIPTION:Spring Stewardship Day\n\n\nSaturday\, May 21 from 9:00 am to 12:00 pm\n\nAs spring rains are falling and flower buds begin emerging\, it is time to join in the spring cleaning at GRNA! Trail grooming\, garden weeding\, and window shining are a few of the many tasks for freshening up our grounds and Center in preparation for summer. No experience is necessary\, just a pair of gloves\, a "spring" in your step\, and an open spirit. Pre-registration is encouraged.\n\n \n\nEmail Brian at stewardship@grassriver.org.
X-ALT-DESC;FMTTYPE=text/html:<strong style="color: rgb(60\, 64\, 67)\; font-family: Roboto\, Arial\, sans-serif\; font-size: 14px\; letter-spacing: 0.2px\; white-space: pre-wrap\; background-color: rgb(255\, 255\, 255)\;">Spring Stewardship Day</strong>\n<div><br style="color: rgb(60\, 64\, 67)\; font-family: Roboto\, Arial\, sans-serif\; font-size: 14px\; letter-spacing: 0.2px\; white-space: pre-wrap\; background-color: rgb(255\, 255\, 255)\;" />\n<em style="color: rgb(60\, 64\, 67)\; font-family: Roboto\, Arial\, sans-serif\; font-size: 14px\; letter-spacing: 0.2px\; white-space: pre-wrap\; background-color: rgb(255\, 255\, 255)\;">Saturday\, May 21 from 9:00 am to 12:00 pm</em><br style="color: rgb(60\, 64\, 67)\; font-family: Roboto\, Arial\, sans-serif\; font-size: 14px\; letter-spacing: 0.2px\; white-space: pre-wrap\; background-color: rgb(255\, 255\, 255)\;" />\n<span style="color: rgb(60\, 64\, 67)\; font-family: Roboto\, Arial\, sans-serif\; font-size: 14px\; letter-spacing: 0.2px\; white-space: pre-wrap\; background-color: rgb(255\, 255\, 255)\;">As spring rains are falling and flower buds begin emerging\, it is time to join in the spring cleaning at GRNA! Trail grooming\, garden weeding\, and window shining are a few of the many tasks for freshening up our grounds and Center in preparation for summer. No experience is necessary\, just a pair of gloves\, a &quot\;spring&quot\; in your step\, and an open spirit. Pre-registration is encouraged.</span></div>\n\n<div>&nbsp\;</div>\n\n<div><span style="color: rgb(60\, 64\, 67)\; font-family: Roboto\, Arial\, sans-serif\; font-size: 14px\; letter-spacing: 0.2px\; white-space: pre-wrap\; background-color: rgb(255\, 255\, 255)\;">Email Brian at </span><a href="mailto:stewardship@grassriver.org" style="color: rgb(26\, 115\, 232)\; font-family: Roboto\, Arial\, sans-serif\; font-size: 14px\; letter-spacing: 0.2px\; white-space: pre-wrap\; background-color: rgb(255\, 255\, 255)\;" target="_blank">stewardship@grassriver.org</a><span style="color: rgb(60\, 64\, 67)\; font-family: Roboto\, Arial\, sans-serif\; font-size: 14px\; letter-spacing: 0.2px\; white-space: pre-wrap\; background-color: rgb(255\, 255\, 255)\;">.</span></div>\n
LOCATION:
UID:e.2409.30292
SEQUENCE:3
DTSTAMP:20260420T202503Z
URL:https://business.elkrapidschamber.org/events/details/grass-river-natural-area-spring-stewardship-day-30292
END:VEVENT

END:VCALENDAR
