BEGIN:VCALENDAR
VERSION:2.0
PRODID:-//ChamberMaster//Event Calendar 2.0//EN
METHOD:PUBLISH
X-PUBLISHED-TTL:P3D
REFRESH-INTERVAL:P3D
CALSCALE:GREGORIAN
BEGIN:VEVENT
DTSTART:20220515T170000Z
DTEND:20220515T183000Z
X-MICROSOFT-CDO-ALLDAYEVENT:FALSE
SUMMARY:Grass River Natural Area Spring Mushroom Hun
DESCRIPTION:Spring Mushroom Hunt \n\nSunday\, May 15\n\n1:00 pm - 2:30 pm\n\n\n\nMorels\, fiddleheads\, and tasty spring edibles are cropping up all over. With the guidance of a Grass River Natural Area naturalist\, you will search for morels and other spring fungi. GRNA is hoping for a good hunt year in their natural area near Bellaire! Get more information at grassriver.org. 6500 Alden Hwy\, Bellaire MI 49615.
X-ALT-DESC;FMTTYPE=text/html:<strong><em><span style="color:#202020\;"><span style="font-family:calibri\,sans-serif\;"><span style="font-size:12.0pt\;">Spring Mushroom Hunt&nbsp\;<br />\nSunday\, May 15<br />\n1:00 pm - 2:30 pm</span></span></span></em></strong><br />\n<br />\n<span style="color:#202020\;"><span style="font-size:12.0pt\;">Morels\, fiddleheads\, and tasty spring edibles are cropping up all over. With the guidance of a Grass River Natural Area naturalist\, you&nbsp\;will search for morels and other spring fungi.&nbsp\;GRNA is hoping for a good hunt year in their natural area near Bellaire!&nbsp\;</span></span><span style="background:white\;"><span style="color:#202020\;"><span style="font-size:12.0pt\;">Get more information at grassriver.org. 6500 Alden Hwy\, Bellaire MI 49615.</span></span></span>
LOCATION:Grass River Natural Area 6500 Alden Hwy\, P.O. Box 231 Bellaire\, MI 49615 Office: 231.533.8314 Grass River Center: 231.533.8576
UID:e.2409.30281
SEQUENCE:3
DTSTAMP:20260420T202637Z
URL:https://business.elkrapidschamber.org/events/details/grass-river-natural-area-spring-mushroom-hun-30281
END:VEVENT

END:VCALENDAR
