BEGIN:VCALENDAR
VERSION:2.0
PRODID:-//ChamberMaster//Event Calendar 2.0//EN
METHOD:PUBLISH
X-PUBLISHED-TTL:P3D
REFRESH-INTERVAL:P3D
CALSCALE:GREGORIAN
BEGIN:VEVENT
DTSTART:20230502T210000Z
DTEND:20230503T010000Z
X-MICROSOFT-CDO-ALLDAYEVENT:FALSE
SUMMARY:Grass River Natural Area Spring Fling at Dockside
DESCRIPTION:Spring Fling at Dockside\n\nTuesday\, May 2\n\n5:00 pm (4 hrs.)\n\nThe most delicious way to support Grass River Natural Area in May is to enjoy food\, drinks\, and time with friends on the beautiful shores of Torch Lake. Join us at The Dockside south of Bellaire on Tuesday\, May 2nd and 50% of all food and drink proceeds benefit GRNA. Dine in person or order to go during the four hour event. Enjoy great food with wonderful people in a relaxing environment while supporting a great organization. 6340 Old Torch Lake Dr.\, Bellaire\, MI 49615
X-ALT-DESC;FMTTYPE=text/html:<strong><em><span style="color:#202020\;"><span style="font-family:calibri\,sans-serif\;"><span style="font-size:12.0pt\;">Spring Fling at Dockside</span></span></span></em></strong><br />\n<span style="color:#202020\;"><span style="font-family:calibri\,sans-serif\;"><span style="font-size:12.0pt\;"><strong><em>Tuesday\, May 2<br />\n5:00 pm&nbsp\;(4 hrs.)</em></strong><br />\nThe most delicious way to support Grass River Natural Area in May is to&nbsp\;enjoy&nbsp\;food\, drinks\, and time with friends on the beautiful shores of Torch Lake. Join us at The Dockside south of Bellaire on Tuesday\, May 2nd&nbsp\;and 50% of all food and drink proceeds benefit GRNA. Dine in person or order to go during the four hour event. Enjoy great food with wonderful people in a relaxing environment while supporting a great organization. 6340 Old Torch Lake Dr.\, Bellaire\, MI 49615</span></span></span><br />\n&nbsp\;
LOCATION:
UID:e.2409.37523
SEQUENCE:3
DTSTAMP:20260420T034933Z
URL:https://business.elkrapidschamber.org/events/details/grass-river-natural-area-spring-fling-at-dockside-37523
END:VEVENT

END:VCALENDAR
