BEGIN:VCALENDAR
VERSION:2.0
PRODID:-//ChamberMaster//Event Calendar 2.0//EN
METHOD:PUBLISH
X-PUBLISHED-TTL:P3D
REFRESH-INTERVAL:P3D
CALSCALE:GREGORIAN
BEGIN:VEVENT
DTSTART:20220522T170000Z
DTEND:20220522T190000Z
X-MICROSOFT-CDO-ALLDAYEVENT:FALSE
SUMMARY:Grass River Natural Area Poetry Discovery Program
DESCRIPTION:Poetry Discovery Program\n\n\n\nExploring Connections to Nature \n\n\n\nSunday May 22\, 2022\, 1:00pm (2 hrs)\, $5 per person\n\nJoin author and poet Steven Veatch for an afternoon where we set aside time to interact with nature and poetry during a walk in the woods. While enjoying the beauty of the Grass River Natural Area on a relaxing hike\, you will learn the basics of writing a poem about nature\, make deep observations\, and then translate the experience into words as you create your own poem. Open to all ages and experience levels. Don't miss this program! Meet at the visitor center and be prepared to go on a hike (approximately one mile) and have lots of fun. Bring a notebook\, a pen or pencil.
X-ALT-DESC;FMTTYPE=text/html:<span style="color: rgb(60\, 64\, 67)\; font-family: Roboto\, Arial\, sans-serif\; font-size: 14px\; letter-spacing: 0.2px\; white-space: pre-wrap\; background-color: rgb(255\, 255\, 255)\;"><b>Poetry Discovery Program</b><br />\n<br />\n<b>Exploring Connections to Nature&nbsp\;</b></span><br />\n<br style="color: rgb(60\, 64\, 67)\; font-family: Roboto\, Arial\, sans-serif\; font-size: 14px\; letter-spacing: 0.2px\; white-space: pre-wrap\; background-color: rgb(255\, 255\, 255)\;" />\n<span style="color: rgb(60\, 64\, 67)\; font-family: Roboto\, Arial\, sans-serif\; font-size: 14px\; letter-spacing: 0.2px\; white-space: pre-wrap\; background-color: rgb(255\, 255\, 255)\;"><i>Sunday May 22\, 2022\, 1:00pm (2 hrs)\, $5 per person</i><br />\nJoin author and poet Steven Veatch for an afternoon where we set aside time to interact with nature and poetry during a walk in the woods. While enjoying the beauty of the Grass River Natural Area on a relaxing hike\, you will learn the basics of writing a poem about nature\, make deep observations\, and then translate the experience into words as you create your own poem. Open to all ages and experience levels. Don&rsquo\;t miss this program! Meet at the visitor center and be prepared to go on a hike (approximately one mile) and have lots of fun. Bring a notebook\, a pen or pencil.</span>
LOCATION:
UID:e.2409.30293
SEQUENCE:3
DTSTAMP:20260420T202413Z
URL:https://business.elkrapidschamber.org/events/details/grass-river-natural-area-poetry-discovery-program-30293
END:VEVENT

END:VCALENDAR
