BEGIN:VCALENDAR
VERSION:2.0
PRODID:-//ChamberMaster//Event Calendar 2.0//EN
METHOD:PUBLISH
X-PUBLISHED-TTL:P3D
REFRESH-INTERVAL:P3D
CALSCALE:GREGORIAN
BEGIN:VEVENT
DTSTART:20230527T120000Z
DTEND:20230527T140000Z
X-MICROSOFT-CDO-ALLDAYEVENT:FALSE
SUMMARY:Grass River Natural Area Birding by Ear
DESCRIPTION:Birding by Ear \n\nSaturday\, May 27\n\n8:00am (2 hrs.)\n\n$5 per person \n\nThe birds are singing but may be difficult to see this time of year as the trees leaf out. Learn to ID birds by their songs and go for a birding walk at Grass River Natural Area. Grass River is a birding hotspot and a great place to learn and appreciate your birds. Get more information and register at grassriver.org. 6500 Alden Hwy\, Bellaire MI 49615.
X-ALT-DESC;FMTTYPE=text/html:<strong><em><span style="background:white\;"><span style="color:black\;"><span style="font-size:12.0pt\;">Birding by Ear&#8203\;</span></span></span></em></strong><br />\n<em><span style="color:black\;"><span style="font-size:12.0pt\;"><strong><span style="background:white\;">Saturday\, May 27</span></strong></span></span></em><br />\n<strong><em><span style="background:white\;"><span style="color:black\;"><span style="font-size:12.0pt\;">8:00am (2 hrs.)</span></span></span></em></strong><br />\n<strong><em><span style="background:white\;"><span style="color:black\;"><span style="font-size:12.0pt\;">$5 per person&nbsp\;</span></span></span></em></strong><br />\n<span style="background:white\;"><span style="color:black\;"><span style="font-size:12.0pt\;">The birds are singing but may be difficult to see this time of year as the trees leaf out. Learn to ID birds by their songs and go for a birding walk at Grass River Natural Area. Grass River is a birding hotspot and a great place to learn and appreciate your birds. </span></span></span><span style="background:white\;"><span style="color:#202020\;"><span style="font-size:12.0pt\;">Get more information and register at grassriver.org. 6500 Alden Hwy\, Bellaire MI 49615.</span></span></span>
LOCATION:
UID:e.2409.37541
SEQUENCE:3
DTSTAMP:20260420T034815Z
URL:https://business.elkrapidschamber.org/events/details/grass-river-natural-area-birding-by-ear-37541
END:VEVENT

END:VCALENDAR
