BEGIN:VCALENDAR
VERSION:2.0
PRODID:-//ChamberMaster//Event Calendar 2.0//EN
METHOD:PUBLISH
X-PUBLISHED-TTL:P3D
REFRESH-INTERVAL:P3D
CALSCALE:GREGORIAN
BEGIN:VEVENT
DTSTART:20220521T120000Z
DTEND:20220521T140000Z
X-MICROSOFT-CDO-ALLDAYEVENT:FALSE
SUMMARY:Grass River Natural Area Birding by Ear
DESCRIPTION:Birding by Ear \n\nSaturday\, May 21\n\n8:00 am - 10:00 am\n\n\n\nThe birds are singing but may be difficult to see this time of year as the trees start to leaf out. Learn to ID birds by their songs on a guided birding walk. Grass River Natural Area near Bellaire is a birding hotspot and a great place to learn and appreciate your birds. Get more information at grassriver.org. 6500 Alden Hwy\, Bellaire MI 49615.
X-ALT-DESC;FMTTYPE=text/html:<strong><em><span style="color:#202020\;"><span style="font-family:calibri\,sans-serif\;"><span style="font-size:12.0pt\;">Birding by Ear&#8203\;<br />\nSaturday\, May 21<br />\n8:00 am - 10:00 am</span></span></span></em></strong><br />\n<br />\n<span style="color:#202020\;"><span style="font-size:12.0pt\;">The birds are singing but may be difficult to see this time of year as the trees start to leaf out. Learn to ID birds by their songs on a guided&nbsp\;birding walk. Grass River Natural Area near Bellaire is a birding hotspot and a great place to learn and appreciate your birds.&nbsp\;</span></span><span style="background:white\;"><span style="color:#202020\;"><span style="font-size:12.0pt\;">Get more information at grassriver.org. 6500 Alden Hwy\, Bellaire MI 49615.</span></span></span>
LOCATION:
UID:e.2409.30282
SEQUENCE:3
DTSTAMP:20260420T202617Z
URL:https://business.elkrapidschamber.org/events/details/grass-river-natural-area-birding-by-ear-30282
END:VEVENT

END:VCALENDAR
