BEGIN:VCALENDAR
VERSION:2.0
PRODID:-//ChamberMaster//Event Calendar 2.0//EN
METHOD:PUBLISH
X-PUBLISHED-TTL:P3D
REFRESH-INTERVAL:P3D
CALSCALE:GREGORIAN
BEGIN:VEVENT
DTSTART:20220604T140000Z
DTEND:20220604T170000Z
X-MICROSOFT-CDO-ALLDAYEVENT:FALSE
SUMMARY:Grass River Native Plant Sale
DESCRIPTION:Grass River Natural Area is holding a plant sale of locally grown plants native to Michigan. Individual quarts of plants will be available on a first-come\, first-serve basis. A list of possible plants available can be found on the GRNA website under Education and Events and then click on the Native Plant Sale tab. Get more information at grassriver.org. 6500 Alden Hwy\, Bellaire MI 49615.
X-ALT-DESC;FMTTYPE=text/html:<span style="color:black\;"><span style="font-size:12.0pt\;">Grass River Natural Area is holding a plant sale of locally grown plants native to Michigan. Individual quarts of plants will be available on a first-come\, first-serve basis. A list of possible plants available can be found on the GRNA website under Education and Events and then click on the Native Plant Sale tab. </span></span><span style="background:white\;"><span style="color:#202020\;"><span style="font-size:12.0pt\;">Get more information at grassriver.org. 6500 Alden Hwy\, Bellaire MI 49615.</span></span></span>
LOCATION:6500 Alden Hwy. Bellaire\, MI 49615
UID:e.2409.30423
SEQUENCE:3
DTSTAMP:20260420T202638Z
URL:https://business.elkrapidschamber.org/events/details/grass-river-native-plant-sale-30423
END:VEVENT

END:VCALENDAR
