BEGIN:VCALENDAR
VERSION:2.0
PRODID:-//ChamberMaster//Event Calendar 2.0//EN
METHOD:PUBLISH
X-PUBLISHED-TTL:P3D
REFRESH-INTERVAL:P3D
CALSCALE:GREGORIAN
BEGIN:VEVENT
DTSTART:20200813T223000Z
DTEND:20200813T233000Z
X-MICROSOFT-CDO-ALLDAYEVENT:FALSE
SUMMARY:Grass River 2020 Riverfest - Re-Invented
DESCRIPTION:Join Grass River Natural Area staff from the comfort of your home - on your own or with friends for an online Happy Hour\, Thursday\, August 13 from 6:30 - 7:30 pm.  You can create your personal virtual picnic spot at GRNA with provided backgrounds. Your host for the evening is GRNA Executive Director Jenn Wright\, with music from the Steve Stargardt Trio of musicians. The happy hour event will kickoff Grass River Natural Area's online auction\, with over 50 items to bid on until the auction closes on Sept 3rd at 11:00 pm. You will also be able to raise your virtual paddle and send GRNA funds to help them continue to meet their mission.\n\nYou can enjoy the HappyHour kickoff for free or pay $60 per person ($100 per couple) for GRNA to deliver a picnic in a basket\, including light food from Shanty Creek Resort and drinks from Short's Brewing Co or Northwoods Soda. Happy hour attendees must pre-register by Aug 10th.\n\n\n\nFor more information and to register\, visit grassriver.org/riverfest-2020 or call (231) 838-0269.
X-ALT-DESC;FMTTYPE=text/html:<div class="v1kvgmc6g5 v1cxmmr5t8 v1oygrvhab v1hcukyx3x v1c1et5uql" style="box-sizing: border-box\; background-color: rgb(255\, 255\, 255)\; overflow-wrap: break-word\; margin: 0px\; font-family: &quot\;Segoe UI Historic&quot\;\, &quot\;Segoe UI&quot\;\, Helvetica\, Arial\, sans-serif\; color: rgb(5\, 5\, 5)\; font-size: 15px\;">Join Grass River Natural Area staff from the comfort of your home - on your own or with friends for an online Happy Hour\, Thursday\, August 13 from 6:30 - 7:30 pm.&nbsp\; You can create your personal virtual picnic spot at GRNA with provided backgrounds. Your host for the evening is GRNA Executive Director Jenn Wright\, with music from the Steve Stargardt Trio of musicians. The happy hour event will kickoff Grass River Natural Area&#39\;s&nbsp\;online auction\, with over 50 items to bid on until the auction closes on Sept 3rd at 11:00 pm. You will also be able to raise your virtual paddle and send GRNA funds to help them&nbsp\;continue to meet their mission.</div>\n\n<div class="v1o9v6fnle v1cxmmr5t8 v1oygrvhab v1hcukyx3x v1c1et5uql" style="box-sizing: border-box\; background-color: rgb(255\, 255\, 255)\; overflow-wrap: break-word\; margin: 0.5em 0px 0px\; font-family: &quot\;Segoe UI Historic&quot\;\, &quot\;Segoe UI&quot\;\, Helvetica\, Arial\, sans-serif\; color: rgb(5\, 5\, 5)\; font-size: 15px\;">You can enjoy the HappyHour kickoff for free or pay $60 per person ($100 per couple) for GRNA to deliver a picnic in a basket\, including light food from Shanty Creek Resort and drinks from Short&#39\;s Brewing Co or Northwoods Soda. Happy hour attendees must pre-register by Aug 10th.</div>\n\n<div class="v1o9v6fnle v1cxmmr5t8 v1oygrvhab v1hcukyx3x v1c1et5uql" style="box-sizing: border-box\; background-color: rgb(255\, 255\, 255)\; overflow-wrap: break-word\; margin: 0.5em 0px 0px\; font-family: &quot\;Segoe UI Historic&quot\;\, &quot\;Segoe UI&quot\;\, Helvetica\, Arial\, sans-serif\; color: rgb(5\, 5\, 5)\; font-size: 15px\;"><br style="box-sizing: border-box\;" />\nFor more information and to register\, visit grass<a class="v1oajrlxb2 v1g5ia77u1 v1qu0x051f v1esr5mh6w v1e9989ue4 v1r7d6kgcz v1rq0escxv v1nhd2j8a9 v1nc684nl6 v1p7hjln8o v1kvgmc6g5 v1cxmmr5t8 v1oygrvhab v1hcukyx3x v1jb3vyjys v1rz4wbd8a v1qt6c0cv9 v1a8nywdso v1i1ao9s8h v1esuyzwwr v1f1sip0of v1lzcic4wl v1py34i1dx v1gpro0wi8" href="https://l.facebook.com/l.php?u=http%3A%2F%2Friver.org%2Friverfest-2020%3Ffbclid%3DIwAR2498L5flixjWfbEBP1RQTggvLogYDLi0yjGdtbrxxaruSOD0p5-vj8iDk&amp\;h=AT2-SCwkjY7uMIsgO_HV_QDrdb9reOHwoUksFN1z57GtkMpjIV65vc70RvS91EmHNg6nMmLbk67c6wt3tTz9Ai0xdbZZTj3_bxv2dd6Vh4CLKcztEPszkJolSm5s_nTovU_Y" rel="noreferrer" style="box-sizing: border-box\; color: rgb(0\, 172\, 255)\; text-decoration-line: none\; background-color: transparent\; cursor: pointer\; outline: none\; list-style: none\; border-width: 0px\; border-style: initial\; border-color: initial\; padding: 0px\; margin: 0px\; touch-action: manipulation\; text-align: inherit\; display: inline\; -webkit-tap-highlight-color: transparent\; font-family: inherit\;" target="_blank">river.org/riverfest-2020</a>&nbsp\;or call (231) 838-0269.&nbsp\;</div>\n
LOCATION:
UID:e.2409.24047
SEQUENCE:3
DTSTAMP:20260422T054611Z
URL:https://business.elkrapidschamber.org/events/details/grass-river-2020-riverfest-re-invented-24047
END:VEVENT

END:VCALENDAR
