BEGIN:VCALENDAR
VERSION:2.0
PRODID:-//ChamberMaster//Event Calendar 2.0//EN
METHOD:PUBLISH
X-PUBLISHED-TTL:P3D
REFRESH-INTERVAL:P3D
CALSCALE:GREGORIAN
BEGIN:VEVENT
DTSTART:20231105T170000Z
DTEND:20231105T200000Z
X-MICROSOFT-CDO-ALLDAYEVENT:FALSE
SUMMARY:Grand Wedding Expo at Castle Farms
DESCRIPTION:You're invited to attend our eagerly-anticipated and recently-refreshed Grand Wedding Expo on Sunday\, November 5\, 2023!\n\nThis event experience features displays by the most sought-after wedding and event professionals that Northern Michigan has to offer. Couples are certain to find resources for planning their wedding a breeze including tasting food from caterers and bakeries\, viewing decorations and florals to bring all those pins to life\, hearing music from the best DJ's in the spaces that can be reserved for a wedding\, and so much more!\n\nDon't forget about the opportunity to register to win door prizes and the Grand Giveaway or a Castle Farms Rehearsal Package!\n\nFree on-site parking is available.\n\nTickets are $5 in advance and $10 at the door.
X-ALT-DESC;FMTTYPE=text/html:<p style="box-sizing: border-box\; margin-top: 0px\; margin-bottom: var(--tec-spacer-3)\; font-size: var(--tec-font-size-4)\; line-height: var(--tec-line-height-2)\; font-family: &quot\;Playfair Display&quot\;\, serif\; letter-spacing: 1px\; color: rgb(67\, 67\, 67)\; background-color: rgb(245\, 245\, 245)\;">You&rsquo\;re invited to attend our eagerly-anticipated and recently-refreshed Grand Wedding Expo on Sunday\, November 5\, 2023!</p>\n\n<p style="box-sizing: border-box\; margin-top: 0px\; margin-bottom: var(--tec-spacer-3)\; font-size: var(--tec-font-size-4)\; line-height: var(--tec-line-height-2)\; font-family: &quot\;Playfair Display&quot\;\, serif\; letter-spacing: 1px\; color: rgb(67\, 67\, 67)\; background-color: rgb(245\, 245\, 245)\;">This event experience features displays by the most sought-after wedding and event professionals that Northern Michigan has to offer. Couples are certain to find resources for planning their wedding a breeze including tasting food from caterers and bakeries\, viewing decorations and florals to bring all those pins to life\, hearing music from the best DJ&rsquo\;s in the spaces that can be reserved for a wedding\, and so much more!</p>\n\n<p style="box-sizing: border-box\; margin-top: 0px\; margin-bottom: var(--tec-spacer-3)\; font-size: var(--tec-font-size-4)\; line-height: var(--tec-line-height-2)\; font-family: &quot\;Playfair Display&quot\;\, serif\; letter-spacing: 1px\; color: rgb(67\, 67\, 67)\; background-color: rgb(245\, 245\, 245)\;">Don&rsquo\;t forget about the opportunity to register to win door prizes and the Grand Giveaway or a Castle Farms Rehearsal Package!</p>\n\n<p style="box-sizing: border-box\; margin-top: 0px\; margin-bottom: var(--tec-spacer-3)\; font-size: var(--tec-font-size-4)\; line-height: var(--tec-line-height-2)\; font-family: &quot\;Playfair Display&quot\;\, serif\; letter-spacing: 1px\; color: rgb(67\, 67\, 67)\; background-color: rgb(245\, 245\, 245)\;">Free on-site parking is available.</p>\n\n<p style="box-sizing: border-box\; margin-top: 0px\; margin-bottom: var(--tec-spacer-3)\; font-size: var(--tec-font-size-4)\; line-height: var(--tec-line-height-2)\; font-family: &quot\;Playfair Display&quot\;\, serif\; letter-spacing: 1px\; color: rgb(67\, 67\, 67)\; background-color: rgb(245\, 245\, 245)\;">Tickets are $5 in advance and $10 at the door.</p>\n
LOCATION:
UID:e.2409.37792
SEQUENCE:3
DTSTAMP:20260419T180049Z
URL:https://business.elkrapidschamber.org/events/details/grand-wedding-expo-at-castle-farms-37792
END:VEVENT

END:VCALENDAR
