BEGIN:VCALENDAR
VERSION:2.0
PRODID:-//ChamberMaster//Event Calendar 2.0//EN
METHOD:PUBLISH
X-PUBLISHED-TTL:P3D
REFRESH-INTERVAL:P3D
CALSCALE:GREGORIAN
BEGIN:VEVENT
DTSTART:20191027T150000Z
DTEND:20191027T200000Z
X-MICROSOFT-CDO-ALLDAYEVENT:FALSE
SUMMARY:Grand Wedding Expo
DESCRIPTION:You're invited to Castle Farms for the 15th annual Grand Wedding Expo on Sunday\, October 27\, 2019. The Grand Finale Fashion Show\, presented by Petoskey Bridal\, closes the event and showcases the latest in bridal fashions. Free on-site parking.\n\nWe are excited to have the Wine & Cider lounge in our very own 1918 Cellars Wine Tasting Room this year!\n\nThis eagerly-anticipated annual event features displays by the finest in wedding service providers Northern Michigan has to offer. Couples are certain to find that special something to help make their wedding day dreams come true. Don't forget- register to win door prizes and the Grand Giveaway!\n\nThe Grand Giveaway winner will be announced after the Grand Finale Fashion Show. You must be present to win the Grand Giveaway!\n\nWorkshops:\n\nDetails to come close to event date.
X-ALT-DESC;FMTTYPE=text/html:<p style="box-sizing: inherit\; color: rgb(67\, 67\, 67)\; font-family: Playfair Display\,serif\; font-size: 1.6rem\; font-style: normal\; font-variant: normal\; font-weight: 400\; letter-spacing: 1px\; line-height: 31px\; margin-bottom: 2rem\; margin-top: 0px\; orphans: 2\; text-align: left\; text-decoration: none\; text-indent: 0px\; text-transform: none\; -webkit-text-stroke-width: 0px\; white-space: normal\; word-spacing: 0px\;">You&rsquo\;re invited to Castle Farms for the 15th annual Grand Wedding Expo on Sunday\, October 27\, 2019. The Grand Finale Fashion Show\, presented by Petoskey Bridal\, closes the event and showcases the latest in bridal fashions. Free on-site parking.</p>\n\n<p style="box-sizing: inherit\; color: rgb(67\, 67\, 67)\; font-family: Playfair Display\,serif\; font-size: 1.6rem\; font-style: normal\; font-variant: normal\; font-weight: 400\; letter-spacing: 1px\; line-height: 31px\; margin-bottom: 2rem\; margin-top: 0px\; orphans: 2\; text-align: left\; text-decoration: none\; text-indent: 0px\; text-transform: none\; -webkit-text-stroke-width: 0px\; white-space: normal\; word-spacing: 0px\;">We are excited to have the Wine &amp\; Cider lounge in our very own <a href="https://www.castlefarms.com/blog/general/1918-cellars-wine-tasting-room/" style="background-color: transparent\; box-sizing: inherit\; color: rgb(175\, 148\, 87)\; text-decoration: none\; touch-action: manipulation\;">1918 Cellars Wine Tasting Room</a> this year!</p>\n\n<p style="box-sizing: inherit\; color: rgb(67\, 67\, 67)\; font-family: Playfair Display\,serif\; font-size: 1.6rem\; font-style: normal\; font-variant: normal\; font-weight: 400\; letter-spacing: 1px\; line-height: 31px\; margin-bottom: 2rem\; margin-top: 0px\; orphans: 2\; text-align: left\; text-decoration: none\; text-indent: 0px\; text-transform: none\; -webkit-text-stroke-width: 0px\; white-space: normal\; word-spacing: 0px\;">This eagerly-anticipated annual event features displays by the finest in wedding service providers Northern Michigan has to offer. Couples are certain to find that special something to help make their wedding day dreams come true. Don&rsquo\;t forget- register to win door prizes and the Grand Giveaway!</p>\n\n<p style="box-sizing: inherit\; color: rgb(67\, 67\, 67)\; font-family: Playfair Display\,serif\; font-size: 1.6rem\; font-style: normal\; font-variant: normal\; font-weight: 400\; letter-spacing: 1px\; line-height: 31px\; margin-bottom: 2rem\; margin-top: 0px\; orphans: 2\; text-align: left\; text-decoration: none\; text-indent: 0px\; text-transform: none\; -webkit-text-stroke-width: 0px\; white-space: normal\; word-spacing: 0px\;"><strong style="box-sizing: inherit\; font-weight: bolder\;">The Grand Giveaway winner will be announced after the Grand Finale Fashion Show. You must be present to win the Grand Giveaway!</strong></p>\n\n<p style="box-sizing: inherit\; color: rgb(67\, 67\, 67)\; font-family: Playfair Display\,serif\; font-size: 1.6rem\; font-style: normal\; font-variant: normal\; font-weight: 400\; letter-spacing: 1px\; line-height: 31px\; margin-bottom: 2rem\; margin-top: 0px\; orphans: 2\; text-align: left\; text-decoration: none\; text-indent: 0px\; text-transform: none\; -webkit-text-stroke-width: 0px\; white-space: normal\; word-spacing: 0px\;"><strong style="box-sizing: inherit\; font-weight: bolder\;">Workshops:</strong><br style="box-sizing: inherit\;" />\nDetails to come close to event date.</p>\n\n<p style="box-sizing: inherit\; color: rgb(67\, 67\, 67)\; font-family: Playfair Display\,serif\; font-size: 1.6rem\; font-style: normal\; font-variant: normal\; font-weight: 400\; letter-spacing: 1px\; line-height: 31px\; margin-bottom: 2rem\; margin-top: 0px\; orphans: 2\; text-align: left\; text-decoration: none\; text-indent: 0px\; text-transform: none\; -webkit-text-stroke-width: 0px\; white-space: normal\; word-spacing: 0px\;">&nbsp\;</p>\n
LOCATION:Castle Farms 5052 M-66 North Charlevoix\, MI 49720
UID:e.2409.19200
SEQUENCE:3
DTSTAMP:20260425T012019Z
URL:https://business.elkrapidschamber.org/events/details/grand-wedding-expo-19200
END:VEVENT

END:VCALENDAR
