BEGIN:VCALENDAR
VERSION:2.0
PRODID:-//ChamberMaster//Event Calendar 2.0//EN
METHOD:PUBLISH
X-PUBLISHED-TTL:P3D
REFRESH-INTERVAL:P3D
CALSCALE:GREGORIAN
BEGIN:VEVENT
DTSTART:20220526T210000Z
DTEND:20220526T230000Z
X-MICROSOFT-CDO-ALLDAYEVENT:FALSE
SUMMARY:Grand Opening & Ribbon Cutting for True Blue Gallery
DESCRIPTION:
X-ALT-DESC;FMTTYPE=text/html:
LOCATION:9046 Helena Rd Alden\, MI 49612
UID:e.2409.29970
SEQUENCE:3
DTSTAMP:20260420T215702Z
URL:https://business.elkrapidschamber.org/events/details/grand-opening-ribbon-cutting-for-true-blue-gallery-29970
END:VEVENT

END:VCALENDAR
