BEGIN:VCALENDAR
VERSION:2.0
PRODID:-//ChamberMaster//Event Calendar 2.0//EN
METHOD:PUBLISH
X-PUBLISHED-TTL:P3D
REFRESH-INTERVAL:P3D
CALSCALE:GREGORIAN
BEGIN:VEVENT
DTSTART:20230602T210000Z
DTEND:20230602T230000Z
X-MICROSOFT-CDO-ALLDAYEVENT:FALSE
SUMMARY:Grand Opening and Ribbon Cutting at River St. Market
DESCRIPTION:Join in the celebration and ribbon cutting at River St. Market for new owners Raven and Shaun Quinn.
X-ALT-DESC;FMTTYPE=text/html:Join in the celebration and ribbon cutting at River St. Market for new owners Raven and Shaun Quinn.
LOCATION:127 River Street Elk Rapids
UID:e.2409.37881
SEQUENCE:3
DTSTAMP:20260420T012557Z
URL:https://business.elkrapidschamber.org/events/details/grand-opening-and-ribbon-cutting-at-river-st-market-37881
END:VEVENT

END:VCALENDAR
