BEGIN:VCALENDAR
VERSION:2.0
PRODID:-//ChamberMaster//Event Calendar 2.0//EN
METHOD:PUBLISH
X-PUBLISHED-TTL:P3D
REFRESH-INTERVAL:P3D
CALSCALE:GREGORIAN
BEGIN:VEVENT
DTSTART:20230305T150000Z
DTEND:20230305T200000Z
X-MICROSOFT-CDO-ALLDAYEVENT:FALSE
SUMMARY:Girl Scout Cookies
DESCRIPTION:Buy Girl Scout cookies from the Elk Rapids Girl Scouts \n\nDRIVE THRU outside the Elk Rapids Chamber of Commerce (by the swan)
X-ALT-DESC;FMTTYPE=text/html:Buy Girl Scout cookies from the Elk Rapids Girl Scouts&nbsp\;<br />\nDRIVE THRU outside the Elk Rapids Chamber of Commerce (by the swan)
LOCATION:305 US 31 N Elk Rapids\, MI 49629
UID:e.2409.36096
SEQUENCE:3
DTSTAMP:20260420T070251Z
URL:https://business.elkrapidschamber.org/events/details/girl-scout-cookies-36096
END:VEVENT

END:VCALENDAR
