BEGIN:VCALENDAR
VERSION:2.0
PRODID:-//ChamberMaster//Event Calendar 2.0//EN
METHOD:PUBLISH
X-PUBLISHED-TTL:P3D
REFRESH-INTERVAL:P3D
CALSCALE:GREGORIAN
BEGIN:VEVENT
DTSTART:20240112T220000Z
DTEND:20240113T010000Z
X-MICROSOFT-CDO-ALLDAYEVENT:FALSE
SUMMARY:Game Night at WaterFire Vineyards
DESCRIPTION:Come hang out with us at WaterFire on Friday\, January 12th from 5 to 8 PM for a pickup game of....whatever people are playing!  Meet someone new\, or join your friends and sit by our fire with a glass of wine. Who's game?
X-ALT-DESC;FMTTYPE=text/html:<span dir="auto">Come hang out with us at WaterFire on Friday\, January 12th from 5 to 8 PM for a pickup game of....whatever people are playing!&nbsp\; Meet someone new\, or join your friends and sit by our fire with a glass of wine. Who&#39\;s game? </span>
LOCATION:WaterFire Vineyards 12180 Sutter Rd Kewadin\, MI 49648
UID:e.2409.41545
SEQUENCE:3
DTSTAMP:20260419T133044Z
URL:https://business.elkrapidschamber.org/events/details/game-night-at-waterfire-vineyards-41545
END:VEVENT

END:VCALENDAR
