BEGIN:VCALENDAR
VERSION:2.0
PRODID:-//ChamberMaster//Event Calendar 2.0//EN
METHOD:PUBLISH
X-PUBLISHED-TTL:P3D
REFRESH-INTERVAL:P3D
CALSCALE:GREGORIAN
BEGIN:VEVENT
DTSTART:20230501T140000Z
DTEND:20230501T210000Z
X-MICROSOFT-CDO-ALLDAYEVENT:FALSE
SUMMARY:G.T. Butterfly House & Bug Zoo Opening Day
DESCRIPTION:G.T. Butterfly House & Bug Zoo Celebrates 10 Years!\n\n \n\n8840 M-72 East\, Williamsburg\, MI.\n\n \n\nIt's a new season full of family friendly fun learning about Butterflies and Bugs! The walk-through exhibits feature a Tropical Butterfly Garden\, with hundreds of the world's most exotic butterflies dancing in flight among a garden packed with blooming flowers.\n\n \n\nThe Bug Zoo is buzzing with excitement! Our Honeybee Observation Hive greets visitors right inside the Zoo\, where you can peek inside a working hive. The Tarantula Tree highlights some of our favorite tarantula species\, while Beetle Boulder is filled with unique beetles and some of their arthropod friends including giant millipedes and the largest roach in the world.\n\n \n\nTake time to explore Duke Elsner's Crawl Space\, an exhibit featuring collected insect specimens from our resident Entomologist\, Dr. Duke Elsner. As a Traverse City local\, Dr. Elsner has collected thousands of species and has played a vital role in providing education on native insects\, with a different theme each year to entertain returning visitors. The Zoo's amphibian collection is helping people connect the need for insects to support the animals dependent on them....Including us!\n\n \n\nOpen May 1st   Labor Day\, G.T. Butterfly House & Bug Zoo offers self-guided tours daily from 10am - 4:30pm\, 30 minutes prior to closing. We are a barrier free facility.\n\n \n\nAdmission rates and group tour information is available at: www.gtbutterflyzoo.com/admission or email your questions to: info@gtbutterflyzoo.com\n\n \n\nFollow us on Facebook for all the outreach events planned this year!
X-ALT-DESC;FMTTYPE=text/html:<p style="box-sizing: border-box\; margin: 0px\; padding: 0px\; font-family: Arial\, Verdana\, Helvetica\, sans-serif\; font-size: 12px\; background-color: rgb(255\, 192\, 67)\;"><span new="" style="box-sizing: border-box\; font-size: 16px\; font-family: Georgia\, " times="">G.T. Butterfly House &amp\; Bug Zoo Celebrates 10 Years!</span></p>\n\n<p style="box-sizing: border-box\; margin: 0px\; padding: 0px\; font-family: Arial\, Verdana\, Helvetica\, sans-serif\; font-size: 12px\; background-color: rgb(255\, 192\, 67)\;">&nbsp\;</p>\n\n<p style="box-sizing: border-box\; margin: 0px\; padding: 0px\; font-family: Arial\, Verdana\, Helvetica\, sans-serif\; font-size: 12px\; background-color: rgb(255\, 192\, 67)\;"><span new="" style="box-sizing: border-box\; font-size: 16px\; font-family: Georgia\, " times="">8840 M-72 East\, Williamsburg\, MI.</span></p>\n\n<p style="box-sizing: border-box\; margin: 0px\; padding: 0px\; font-family: Arial\, Verdana\, Helvetica\, sans-serif\; font-size: 12px\; background-color: rgb(255\, 192\, 67)\;">&nbsp\;</p>\n\n<p style="box-sizing: border-box\; margin: 0px\; padding: 0px\; font-family: Arial\, Verdana\, Helvetica\, sans-serif\; font-size: 12px\; background-color: rgb(255\, 192\, 67)\;"><span new="" style="box-sizing: border-box\; font-size: 14px\; font-family: Georgia\, " times="">It&#39\;s a new season full of family friendly fun learning about Butterflies and Bugs! The walk-through exhibits feature a Tropical Butterfly Garden\, with hundreds of the world&#39\;s most exotic butterflies dancing in flight among a garden packed with blooming flowers.</span></p>\n\n<p style="box-sizing: border-box\; margin: 0px\; padding: 0px\; font-family: Arial\, Verdana\, Helvetica\, sans-serif\; font-size: 12px\; background-color: rgb(255\, 192\, 67)\;">&nbsp\;</p>\n\n<p style="box-sizing: border-box\; margin: 0px\; padding: 0px\; font-family: Arial\, Verdana\, Helvetica\, sans-serif\; font-size: 12px\; background-color: rgb(255\, 192\, 67)\;"><span new="" style="box-sizing: border-box\; font-size: 14px\; font-family: Georgia\, " times="">The Bug Zoo&nbsp\;is buzzing with excitement! Our&nbsp\;Honeybee Observation Hive&nbsp\;greets visitors right inside the Zoo\, where you can peek inside a working hive.&nbsp\;The Tarantula Tree&nbsp\;highlights some of our favorite tarantula species\, while&nbsp\;Beetle Boulder&nbsp\;is filled with unique beetles and some of their arthropod friends including giant millipedes and the largest roach in the world.</span></p>\n\n<p style="box-sizing: border-box\; margin: 0px\; padding: 0px\; font-family: Arial\, Verdana\, Helvetica\, sans-serif\; font-size: 12px\; background-color: rgb(255\, 192\, 67)\;">&nbsp\;</p>\n\n<p style="box-sizing: border-box\; margin: 0px\; padding: 0px\; font-family: Arial\, Verdana\, Helvetica\, sans-serif\; font-size: 12px\; background-color: rgb(255\, 192\, 67)\;"><span new="" style="box-sizing: border-box\; font-size: 14px\; font-family: Georgia\, " times="">Take time to explore&nbsp\;Duke Elsner&#39\;s Crawl Space\, an exhibit featuring collected insect specimens from our resident Entomologist\, Dr. Duke Elsner. As a Traverse City local\, Dr. Elsner has collected thousands of species and has played a vital role in providing education on native insects\, with a different theme each year to entertain returning visitors. The Zoo&#39\;s amphibian collection is helping people connect the need for insects to support the animals dependent on them....Including us!</span></p>\n\n<p style="box-sizing: border-box\; margin: 0px\; padding: 0px\; font-family: Arial\, Verdana\, Helvetica\, sans-serif\; font-size: 12px\; background-color: rgb(255\, 192\, 67)\;">&nbsp\;</p>\n\n<p style="box-sizing: border-box\; margin: 0px\; padding: 0px\; font-family: Arial\, Verdana\, Helvetica\, sans-serif\; font-size: 12px\; background-color: rgb(255\, 192\, 67)\;"><span new="" style="box-sizing: border-box\; font-size: 14px\; font-family: Georgia\, " times="">Open May 1st&nbsp\;&ndash\; Labor Day\, G.T. Butterfly House &amp\; Bug Zoo offers self-guided tours daily from 10am - 4:30pm\, 30 minutes prior to closing. We are a barrier free facility.</span></p>\n\n<p style="box-sizing: border-box\; margin: 0px\; padding: 0px\; font-family: Arial\, Verdana\, Helvetica\, sans-serif\; font-size: 12px\; background-color: rgb(255\, 192\, 67)\;">&nbsp\;</p>\n\n<p style="box-sizing: border-box\; margin: 0px\; padding: 0px\; font-family: Arial\, Verdana\, Helvetica\, sans-serif\; font-size: 12px\; background-color: rgb(255\, 192\, 67)\;"><span new="" style="box-sizing: border-box\; font-size: 14px\; font-family: Georgia\, " times="">Admission rates and group tour information is available at:&nbsp\;</span><a font-weight:="" href="https://r20.rs6.net/tn.jsp?f=001_y1FoNkzF1cQ9vJ7-4sJVafdcxsDFOKWcFGpZZL3uXvHSWrb2236fQPHQSPabiDy7WnDbtO78HZAX2zi4qEtCYBYRo5fR-_-Gnq_vykyjyehE60rvlifERg9LOjEdL5b7WdCeO961jCZ2vFTh9TydgKE8WgGnbMfuHPnz3SesA4=&amp\;c=gde07HzJqQIqIHNXCuZSy6-EQhxOFc0EFHjMUOmG5hf469ha-yDAxQ==&amp\;ch=mVowqEUwArNt90d9zudQjBblKU5SKrPA7OoCoixkDqHIasPINBF2sQ==" new="" rel="noreferrer" style="box-sizing: border-box\; color: rgb(40\, 79\, 161)\; background-color: transparent\; font-size: 14px\; font-family: Georgia\, " target="_blank" times="">www.gtbutterflyzoo.com/admission</a><span new="" style="box-sizing: border-box\; font-size: 14px\; font-family: Georgia\, " times="">&nbsp\;or email your questions to:&nbsp\;</span><a font-weight:="" href="https://r20.rs6.net/tn.jsp?f=001_y1FoNkzF1cQ9vJ7-4sJVafdcxsDFOKWcFGpZZL3uXvHSWrb2236fQPHQSPabiDyQ6anVKkfekbqwuSrEHDHnZufs3cmN69KHqTqNh2qA0uHZh4kkXq12LBkVAaUla34VyEHDWybzX4ALdhjxETmBxBunXYLecZO&amp\;c=gde07HzJqQIqIHNXCuZSy6-EQhxOFc0EFHjMUOmG5hf469ha-yDAxQ==&amp\;ch=mVowqEUwArNt90d9zudQjBblKU5SKrPA7OoCoixkDqHIasPINBF2sQ==" new="" rel="noreferrer" style="box-sizing: border-box\; color: rgb(40\, 79\, 161)\; background-color: transparent\; font-size: 14px\; font-family: Georgia\, " target="_blank" times="">info@gtbutterflyzoo.com</a></p>\n\n<p style="box-sizing: border-box\; margin: 0px\; padding: 0px\; font-family: Arial\, Verdana\, Helvetica\, sans-serif\; font-size: 12px\; background-color: rgb(255\, 192\, 67)\;">&nbsp\;</p>\n\n<p style="box-sizing: border-box\; margin: 0px\; padding: 0px\; font-family: Arial\, Verdana\, Helvetica\, sans-serif\; font-size: 12px\; background-color: rgb(255\, 192\, 67)\;"><span new="" style="box-sizing: border-box\; font-size: 14px\; font-family: Georgia\, " times="">Follow us on&nbsp\;</span><a font-weight:="" href="https://r20.rs6.net/tn.jsp?f=001_y1FoNkzF1cQ9vJ7-4sJVafdcxsDFOKWcFGpZZL3uXvHSWrb2236fQPHQSPabiDy-P_epcYqDCZR9swt3WzSD2ZHagm3D6vv_vCZwTHdg4n4G8wi4nU_BA-TnIM_6jZUlCqwox-KzQRCmlkRwhs5lKkO0zR16zi-4II6pfLGPW0=&amp\;c=gde07HzJqQIqIHNXCuZSy6-EQhxOFc0EFHjMUOmG5hf469ha-yDAxQ==&amp\;ch=mVowqEUwArNt90d9zudQjBblKU5SKrPA7OoCoixkDqHIasPINBF2sQ==" new="" rel="noreferrer" style="box-sizing: border-box\; color: rgb(40\, 79\, 161)\; background-color: transparent\; font-size: 14px\; font-family: Georgia\, " target="_blank" times="">Facebook</a><span new="" style="box-sizing: border-box\; font-size: 14px\; font-family: Georgia\, " times="">&nbsp\;for all the outreach events planned this year!</span></p>\n
LOCATION:
UID:e.2409.37229
SEQUENCE:3
DTSTAMP:20260420T035109Z
URL:https://business.elkrapidschamber.org/events/details/g-t-butterfly-house-bug-zoo-opening-day-37229
END:VEVENT

END:VCALENDAR
