BEGIN:VCALENDAR
VERSION:2.0
PRODID:-//ChamberMaster//Event Calendar 2.0//EN
METHOD:PUBLISH
X-PUBLISHED-TTL:P3D
REFRESH-INTERVAL:P3D
CALSCALE:GREGORIAN
BEGIN:VEVENT
DTSTART:20191030T120000Z
DTEND:20191030T210000Z
X-MICROSOFT-CDO-ALLDAYEVENT:FALSE
SUMMARY:Fuse Professional Development Conference
DESCRIPTION:Join us for our 10th annual leadership / professional development conference brought to you by Traverse City Area Chamber of Commerce's FUSE and Leadership Grand Traverse programs. Big thanks to our presenting sponsor\, Blue Cross Blue Shield of Michigan.
X-ALT-DESC;FMTTYPE=text/html:Join us for our 10th annual leadership / professional development conference brought to you by Traverse City Area Chamber of Commerce&#39\;s FUSE and Leadership Grand Traverse programs. Big thanks to our presenting sponsor\, Blue Cross Blue Shield of Michigan.
LOCATION:Great Wolf Lodge
UID:e.2409.20174
SEQUENCE:3
DTSTAMP:20260422T183601Z
URL:https://business.elkrapidschamber.org/events/details/fuse-professional-development-conference-20174
END:VEVENT

END:VCALENDAR
